BEGIN:VCALENDAR
VERSION:2.0
PRODID:-//DOWNTOWN BERKELEY - ECPv6.15.17.1//NONSGML v1.0//EN
CALSCALE:GREGORIAN
METHOD:PUBLISH
X-WR-CALNAME:DOWNTOWN BERKELEY
X-ORIGINAL-URL:https://www.downtownberkeley.com
X-WR-CALDESC:Events for DOWNTOWN BERKELEY
REFRESH-INTERVAL;VALUE=DURATION:PT1H
X-Robots-Tag:noindex
X-PUBLISHED-TTL:PT1H
BEGIN:VTIMEZONE
TZID:America/Denver
BEGIN:DAYLIGHT
TZOFFSETFROM:-0700
TZOFFSETTO:-0600
TZNAME:MDT
DTSTART:20160313T090000
END:DAYLIGHT
BEGIN:STANDARD
TZOFFSETFROM:-0600
TZOFFSETTO:-0700
TZNAME:MST
DTSTART:20161106T080000
END:STANDARD
BEGIN:DAYLIGHT
TZOFFSETFROM:-0700
TZOFFSETTO:-0600
TZNAME:MDT
DTSTART:20170312T090000
END:DAYLIGHT
BEGIN:STANDARD
TZOFFSETFROM:-0600
TZOFFSETTO:-0700
TZNAME:MST
DTSTART:20171105T080000
END:STANDARD
BEGIN:DAYLIGHT
TZOFFSETFROM:-0700
TZOFFSETTO:-0600
TZNAME:MDT
DTSTART:20180311T090000
END:DAYLIGHT
BEGIN:STANDARD
TZOFFSETFROM:-0600
TZOFFSETTO:-0700
TZNAME:MST
DTSTART:20181104T080000
END:STANDARD
BEGIN:DAYLIGHT
TZOFFSETFROM:-0700
TZOFFSETTO:-0600
TZNAME:MDT
DTSTART:20190310T090000
END:DAYLIGHT
BEGIN:STANDARD
TZOFFSETFROM:-0600
TZOFFSETTO:-0700
TZNAME:MST
DTSTART:20191103T080000
END:STANDARD
BEGIN:DAYLIGHT
TZOFFSETFROM:-0700
TZOFFSETTO:-0600
TZNAME:MDT
DTSTART:20200308T090000
END:DAYLIGHT
BEGIN:STANDARD
TZOFFSETFROM:-0600
TZOFFSETTO:-0700
TZNAME:MST
DTSTART:20201101T080000
END:STANDARD
END:VTIMEZONE
BEGIN:VEVENT
DTSTART;TZID=America/Denver:20190723T180000
DTEND;TZID=America/Denver:20190723T210000
DTSTAMP:20260419T075343
CREATED:20190723T230732Z
LAST-MODIFIED:20190723T230732Z
UID:20626-1563904800-1563915600@www.downtownberkeley.com
SUMMARY:Bobby G's Free Live Jazz and Stand-Up Comedy (6-9pm)
DESCRIPTION:
URL:https://www.downtownberkeley.com/dtb-event/bobby-gs-free-live-jazz-and-stand-up-comedy-6-9pm/
LOCATION:Bobby G’s Pizzeria\, 2072 University Avenue\, Berkeley\, CA\, 94704\, United States
CATEGORIES:Community Events,Food and Drink,Music,Other,Summer of Love
ATTACH;FMTTYPE=image/png:https://www.downtownberkeley.com/wp-content/uploads/2019/06/1557356154747.png
END:VEVENT
BEGIN:VEVENT
DTSTART;TZID=America/Denver:20190714T110000
DTEND;TZID=America/Denver:20190714T180000
DTSTAMP:20260419T075343
CREATED:20190712T174332Z
LAST-MODIFIED:20190712T180140Z
UID:20515-1563102000-1563127200@www.downtownberkeley.com
SUMMARY:Sunday Streets Downtown Berkeley
DESCRIPTION:On July 14th from 11am – 6pm Downtown Berkeley will be hosting the 7th Annual Sunday Streets in Downtown Berkeley. The event will feature the 2nd Annual Pet Parade\, a Family Bastille Day Celebration as well as Downtown Berkeley’s celebration of free live music; Cornerfest hosted by Cornerstone Craft Beer & Live Music! \nMore info here!
URL:https://www.downtownberkeley.com/dtb-event/sunday-streets-downtown-berkeley/
LOCATION:Shattuck Ave. Btw University & Durant\, Berkeley\, CA\, 94704\, United States
CATEGORIES:Food and Drink,Music,Outdoor Event,Sports Activities,Summer of Love,Visual Arts
ATTACH;FMTTYPE=image/png:https://www.downtownberkeley.com/wp-content/uploads/2019/07/image001.png
ORGANIZER;CN="Downtown Berkeley Association":MAILTO:info@downtownberkeley.com
END:VEVENT
BEGIN:VEVENT
DTSTART;TZID=America/Denver:20170917T120000
DTEND;TZID=America/Denver:20170917T180000
DTSTAMP:20260419T075343
CREATED:20170606T015518Z
LAST-MODIFIED:20170912T180150Z
UID:7697-1505649600-1505671200@www.downtownberkeley.com
SUMMARY:Salsa Sunday
DESCRIPTION:CENTER ST. AT SHATTUCK * BLOCK PARTY\nDOWNTOWN BERKELEY * 12PM-6PM\nFree dance lessons! Live music! prizes\nFacebook | Line Up
URL:https://www.downtownberkeley.com/dtb-event/4th-annual-salsa-sunday-2017-09-17/
LOCATION:Center Street btwn Shattuck and Oxford\, 2151 Shattuck Avenue\, Berkeley\, CA\, 94116\, United States
CATEGORIES:Community Events,Food and Drink,Music,Summer of Love
END:VEVENT
BEGIN:VEVENT
DTSTART;TZID=America/Denver:20170803T203000
DTEND;TZID=America/Denver:20170803T230000
DTSTAMP:20260419T075344
CREATED:20170623T174527Z
LAST-MODIFIED:20170623T174617Z
UID:7970-1501792200-1501801200@www.downtownberkeley.com
SUMMARY:George Clinton & Parliament Funkadelic
DESCRIPTION:Recording both as Parliament and Funkadelic\, George Clinton revolutionized R&B during the ’ 70s\, twisting soul music into funk by adding influences from several late-’ 60s acid heroes: Jimi Hendrix\, Frank Zappa\, and Sly Stone. The Parliament/Funkadelicmachine ruled black music during the ’ 70s\, capturing over 40 R&B hit singles (including three number ones) and recording three platinum albums. \nDoors 7:30 PM / Show 8:30 PM \nTickets and More Info
URL:https://www.downtownberkeley.com/dtb-event/george-clinton-parliament-funkadelic/
LOCATION:Cornerstone\, 2367 Shattuck Ave\, Berkeley\, 94704\, United States
CATEGORIES:Summer of Love
END:VEVENT
BEGIN:VEVENT
DTSTART;TZID=America/Denver:20170728T200000
DTEND;TZID=America/Denver:20170728T230000
DTSTAMP:20260419T075344
CREATED:20170623T174157Z
LAST-MODIFIED:20170623T174157Z
UID:7891-1501272000-1501282800@www.downtownberkeley.com
SUMMARY:Jefferson Starship
DESCRIPTION:Doors 7:30 PM / Show 8:30 PM \ninfo and tickets
URL:https://www.downtownberkeley.com/dtb-event/jefferson-starship/
LOCATION:Cornerstone\, 2367 Shattuck Ave\, Berkeley\, 94704\, United States
CATEGORIES:Summer of Love
END:VEVENT
BEGIN:VEVENT
DTSTART;TZID=America/Denver:20170715T203000
DTEND;TZID=America/Denver:20170715T233000
DTSTAMP:20260419T075344
CREATED:20170623T180132Z
LAST-MODIFIED:20170623T180132Z
UID:7981-1500150600-1500161400@www.downtownberkeley.com
SUMMARY:XEB (ex Original Members from Third Eye Blind)
DESCRIPTION:XEB brings together ex original members of Third Eye Blind. Kevin Cadogan\, Tony Fredianelli and Arion Salazar’s contributions span 17 years of the band’s history.
URL:https://www.downtownberkeley.com/dtb-event/xeb-ex-original-members-from-third-eye-blind/
LOCATION:Cornerstone\, 2367 Shattuck Ave\, Berkeley\, 94704\, United States
CATEGORIES:Summer of Love
END:VEVENT
BEGIN:VEVENT
DTSTART;TZID=America/Denver:20170714T190000
DTEND;TZID=America/Denver:20170714T233000
DTSTAMP:20260419T075344
CREATED:20170623T175850Z
LAST-MODIFIED:20170623T180010Z
UID:7979-1500058800-1500075000@www.downtownberkeley.com
SUMMARY:Berkeley Bliss
DESCRIPTION:Harold Way – Between Kittredge Street/Allston Way \nBerkeley Bliss is Downtown Berkeley’s first ever outdoor silent disco experience held on Harold Way in Downtown Berkeley. Berkeley Bliss will feature two Djs mixing simultaneously on two channels to custom wireless HUSHphones. Café Maison Bleue will be serving food and drinks off their French inspired menu all night and Drakes Brewery will be providing their tasty brew inside the event. This is a free event but attendees are encouraged to purchase advance tickets to reserve headphones. Berkeley Bliss is being co-presented with HUSHconcerts and the Downtown Berkeley Association. \nBUY TICKETS 
URL:https://www.downtownberkeley.com/dtb-event/berkeley-bliss/
LOCATION:Downtown Berkeley\, 2160 Shattuck Avenue\, Berkeley\, CA\, 94704\, United States
CATEGORIES:Summer of Love
END:VEVENT
BEGIN:VEVENT
DTSTART;TZID=America/Denver:20170710T190000
DTEND;TZID=America/Denver:20170710T220000
DTSTAMP:20260419T075344
CREATED:20170623T175135Z
LAST-MODIFIED:20170623T175135Z
UID:7974-1499713200-1499724000@www.downtownberkeley.com
SUMMARY:Summer of Love Ride
DESCRIPTION:Celebrate the 50th Anniversary of the Summer of Love at CycleBar! Throw some flowers in your hair and take a magical ride to the best Pop Culture and Classic Rock beats from this historical time period. It’s time to get GROOVY on the bike! People should sign up in advance as space is limited.
URL:https://www.downtownberkeley.com/dtb-event/summer-of-love-ride/
LOCATION:cyclebar\, 1929 University Avenue\, Berkeley\, 94704\, United States
CATEGORIES:Summer of Love
END:VEVENT
BEGIN:VEVENT
DTSTART;TZID=America/Denver:20170709T160000
DTEND;TZID=America/Denver:20170709T190000
DTSTAMP:20260419T075344
CREATED:20170623T174912Z
LAST-MODIFIED:20170623T174937Z
UID:7972-1499616000-1499626800@www.downtownberkeley.com
SUMMARY:Diane Moser\, Mark Dresser\, Vijay Anderson\, and Hafez Modirzadeh
DESCRIPTION:Celebrating their new release “For My Mother”\, featuring new music from Diane Moser (piano)\, Mark Dresser (bass)\, Vijay Anderson (drums) and Hafez Modirzadeh (saxophones and flute). This recording is on the MinusZero label\, all proceeds go to support Planned Parenthood. More Info
URL:https://www.downtownberkeley.com/dtb-event/diane-moser-mark-dresser-vijay-anderson-and-hafez-modirzadeh/
LOCATION:California Jazz Conservatory\, 2087 Addison Street\, Berkeley\, CA\, 94704\, United States
CATEGORIES:Summer of Love
END:VEVENT
BEGIN:VEVENT
DTSTART;TZID=America/Denver:20170629T200000
DTEND;TZID=America/Denver:20170629T230000
DTSTAMP:20260419T075344
CREATED:20170606T013137Z
LAST-MODIFIED:20170623T173030Z
UID:7347-1498766400-1498777200@www.downtownberkeley.com
SUMMARY:Daughter of a Garbage Man
DESCRIPTION:Written & Performed by Maureen Langan\nDeveloped with & Directed by David Ford \nThursdays at 8pm | Saturdays at 8:30pm\nNo Shows: June 17 & 22 \n“Langan has a lot of guts” –SF Theatre Blog\n“Langan grabs the audience in the palm of her hand and will not let go of them…jam packed with moments to be relished and remembered.” —TheatreEddys\n“Langan is a natural comedienne who you like so much you can’t wait to hear more…we love Maureen Langan. Go check out the garbage guy’s little girl. You’ll love her too.” –SF Theatre Blog\n“The title of Maureen Langan’s solo show\, “Daughter of a Garbageman\,” now at The Marsh\, may be unprepossessing\, but make no mistake: This is a thick\, well-structured\, funny and touching examination of—well\, as the witty Langan declares right off\, of why she doesn’t have the book deal\, the fame\, the acclaim of that chucklehead Kim Kardashian.” — SF Examiner
URL:https://www.downtownberkeley.com/dtb-event/daughter-of-a-garbage-man-2/
LOCATION:The Marsh\, 2120 Allston Way\, Berkeley\, 94704\, United States
CATEGORIES:Summer of Love,Theater & Dance
END:VEVENT
BEGIN:VEVENT
DTSTART;TZID=America/Denver:20170623T200000
DTEND;TZID=America/Denver:20170623T230000
DTSTAMP:20260419T075344
CREATED:20170623T175320Z
LAST-MODIFIED:20170623T175539Z
UID:7977-1498248000-1498258800@www.downtownberkeley.com
SUMMARY:Peter Yarrow
DESCRIPTION:8:00 pm (doors open at 7:00 pm)\nPeter Yarrow has spent a lifetime making music and practicing social activism. Peter is known best for his years in the hit making trio Peter\, Paul\, & Mary. During their career\, the trio scored 12 top 40 hits including “Leaving on a Jet Plane”\, “Blowin’ in the Wind” and Peter’s composition “Puff (the Magic Dragon)”. After the band split in 1970\, Peter went on to score another number one single with “Torn Between Two Lovers”\, a song he wrote for Mary MacGregor. Yarrow was an early protestor of the war in Vietnam and was a part of the March on Washington (for civil rights) with Martin Luther King. In later years\, Peter helped found “Operation Respect”\, an anti-bullying non-profit organization.
URL:https://www.downtownberkeley.com/dtb-event/peter-yarrow/
LOCATION:Freight & Salvage\, and Berkeley Repertory Theatre\, 2020 Addison Street\, Berkeley\, CA\, 94704\, United States
CATEGORIES:Summer of Love
END:VEVENT
BEGIN:VEVENT
DTSTART;TZID=America/Denver:20170618T120000
DTEND;TZID=America/Denver:20170618T180000
DTSTAMP:20260419T075344
CREATED:20170606T015518Z
LAST-MODIFIED:20170809T190845Z
UID:7693-1497787200-1497808800@www.downtownberkeley.com
SUMMARY:Salsa Sunday
DESCRIPTION:CENTER ST. AT SHATTUCK * BLOCK PARTY\nDOWNTOWN BERKELEY * 12PM-6PM\nFree dance lessons! Live music! prizes\nFacebook | Line Up
URL:https://www.downtownberkeley.com/dtb-event/4th-annual-salsa-sunday/
LOCATION:Center Street btwn Shattuck and Oxford\, 2151 Shattuck Avenue\, Berkeley\, CA\, 94116\, United States
CATEGORIES:Community Events,Food and Drink,Music,Summer of Love
END:VEVENT
BEGIN:VEVENT
DTSTART;TZID=America/Denver:20170503T200000
DTEND;TZID=America/Denver:20170503T220000
DTSTAMP:20260419T075344
CREATED:20160415T004731Z
LAST-MODIFIED:20170623T172903Z
UID:4565-1493841600-1493848800@www.downtownberkeley.com
SUMMARY:Monsoon Wedding
DESCRIPTION:You’re invited to the wedding of the season! Award-winning film director Mira Nair brings her exuberant and sumptuous Monsoon Wedding to Berkeley Rep’s stage in this highly anticipated world premiere musical. \nCheck the website for tickets and showtimes \nNo shows on Mondays \n 
URL:https://www.downtownberkeley.com/dtb-event/lyrics-and-dirges/
LOCATION:Berkeley Repertory Theatre\, 2025 Addison Street\, Berkeley\, CA\, 94704\, United States
CATEGORIES:Community Events,Summer of Love,Theater & Dance
END:VEVENT
BEGIN:VEVENT
DTSTART;TZID=America/Denver:20170503T110000
DTEND;TZID=America/Denver:20170503T190000
DTSTAMP:20260419T075344
CREATED:20170606T005641Z
LAST-MODIFIED:20170623T172830Z
UID:7096-1493809200-1493838000@www.downtownberkeley.com
SUMMARY:SAM CONTIS / MATRIX 266
DESCRIPTION:Sam Contis (b. 1982) uses photography and archival research to explore the relationship of bodies and landscape and the shifting nature of gender identity and expression. \nCheck for exhibit info hours of admission
URL:https://www.downtownberkeley.com/dtb-event/sam-contis-matrix-266/
LOCATION:BAMPFA\, 2155 Center Street\, Berkeley\, CA\, 94720\, United States
CATEGORIES:Summer of Love,Visual Arts
END:VEVENT
END:VCALENDAR