BEGIN:VCALENDAR
VERSION:2.0
PRODID:-//DOWNTOWN BERKELEY - ECPv6.15.17.1//NONSGML v1.0//EN
CALSCALE:GREGORIAN
METHOD:PUBLISH
X-WR-CALNAME:DOWNTOWN BERKELEY
X-ORIGINAL-URL:https://www.downtownberkeley.com
X-WR-CALDESC:Events for DOWNTOWN BERKELEY
REFRESH-INTERVAL;VALUE=DURATION:PT1H
X-Robots-Tag:noindex
X-PUBLISHED-TTL:PT1H
BEGIN:VTIMEZONE
TZID:America/Denver
BEGIN:DAYLIGHT
TZOFFSETFROM:-0700
TZOFFSETTO:-0600
TZNAME:MDT
DTSTART:20170312T090000
END:DAYLIGHT
BEGIN:STANDARD
TZOFFSETFROM:-0600
TZOFFSETTO:-0700
TZNAME:MST
DTSTART:20171105T080000
END:STANDARD
BEGIN:DAYLIGHT
TZOFFSETFROM:-0700
TZOFFSETTO:-0600
TZNAME:MDT
DTSTART:20180311T090000
END:DAYLIGHT
BEGIN:STANDARD
TZOFFSETFROM:-0600
TZOFFSETTO:-0700
TZNAME:MST
DTSTART:20181104T080000
END:STANDARD
BEGIN:DAYLIGHT
TZOFFSETFROM:-0700
TZOFFSETTO:-0600
TZNAME:MDT
DTSTART:20190310T090000
END:DAYLIGHT
BEGIN:STANDARD
TZOFFSETFROM:-0600
TZOFFSETTO:-0700
TZNAME:MST
DTSTART:20191103T080000
END:STANDARD
END:VTIMEZONE
BEGIN:VEVENT
DTSTART;TZID=America/Denver:20181124T160000
DTEND;TZID=America/Denver:20181124T170000
DTSTAMP:20260424T063504
CREATED:20181107T002031Z
LAST-MODIFIED:20181119T212551Z
UID:17143-1543075200-1543078800@www.downtownberkeley.com
SUMMARY:Kid Busker's for Change presents Kaia
DESCRIPTION:Check out Kid Busker’s for Change’s Kaia live on the plaza! \nFor more info on this event and others\, check out the new On the Plaza schedule.
URL:https://www.downtownberkeley.com/dtb-event/kid-buskers-for-change-presents-kaia/
LOCATION:Downtown Berkeley Plaza\, Berkeley\, CA\, 94720\, United States
CATEGORIES:Music
END:VEVENT
BEGIN:VEVENT
DTSTART;TZID=America/Denver:20181106T120000
DTEND;TZID=America/Denver:20181106T130000
DTSTAMP:20260424T063504
CREATED:20181106T202107Z
LAST-MODIFIED:20181106T202107Z
UID:17133-1541505600-1541509200@www.downtownberkeley.com
SUMMARY:Founding Fathers w. Vince De Jesus & Alberto Gutierrez
DESCRIPTION:Today from 12-1PM check out Founding Fathers w. Vince De Jesus & Alberto Gutierrez playing LIVE on the Plaza! \nFor more info on this event and others\, check out the new On the Plaza schedule.
URL:https://www.downtownberkeley.com/dtb-event/founding-fathers-w-vince-de-jesus-alberto-gutierrez/
LOCATION:Berkeley\, CA\, 94704\, United States
CATEGORIES:Music
ATTACH;FMTTYPE=image/jpeg:https://www.downtownberkeley.com/wp-content/uploads/2018/11/Founding-Fathers.jpg
END:VEVENT
BEGIN:VEVENT
DTSTART;TZID=America/Denver:20181104T170000
DTEND;TZID=America/Denver:20181104T180000
DTSTAMP:20260424T063504
CREATED:20181019T184638Z
LAST-MODIFIED:20181019T184638Z
UID:16275-1541350800-1541354400@www.downtownberkeley.com
SUMMARY:Purnamasari
DESCRIPTION:From 5-6PM\, catch Purnamasari a band with gamelan-infused and guitar-oriented songs! \nFor more info\, check out the new On the Plaza schedule.
URL:https://www.downtownberkeley.com/dtb-event/purnamasari/
LOCATION:Downtown Berkeley Plaza\, Berkeley\, CA\, 94720\, United States
CATEGORIES:Community Events,Music
ATTACH;FMTTYPE=image/png:https://www.downtownberkeley.com/wp-content/uploads/2018/10/Purnamasari.png
END:VEVENT
BEGIN:VEVENT
DTSTART;TZID=America/Denver:20181103T180000
DTEND;TZID=America/Denver:20181103T193000
DTSTAMP:20260424T063504
CREATED:20181101T220518Z
LAST-MODIFIED:20181102T181653Z
UID:17003-1541268000-1541273400@www.downtownberkeley.com
SUMMARY:Bayngels
DESCRIPTION:Come check out the Bayngels this Saturday on the Plaza for an awesome combination of talents of Ali Paris and Briana Di Mara… \nAli Paris captivates audiences worldwide with his unique fusion of Middle Eastern and Western music styles highlighted by both technical virtuosity and emotional expression. He accompanies his singing with his instrument\, the Qanun\, a rare 76-string zither that dates back to the 14th century and is played by only a handful of people across the globe. \nAli’s music education began at the age of 5 in his native countries of Morocco and Palestine studying Arabic traditional music with master Simon Shaheen. He quickly became known as a child prodigy\, performing by age 9 and touring internationally by the age of 12. \nSince then he has received multiple International awards including the Artist of the Year (2004-2007) and has expanded his musical career exponentially\, relocating to the United States to earn his degree at the prestigious Berklee College of Music. He has collaborated with a long list of world-renowned artists such as Alicia Keys\, Quincy Jones\, Javier Limon and Bobby McFerrin. His solo performances have reached diverse audiences from the Newport to the Istanbul Jazz Festival and from the White House to the Royal Palace in Jordan to play for both the President of Palestine and the Queen of Jordan. He has appeared as a soloist with the Boston Symphony Orchestra\, the Michigan Philharmonic and is featured in the renowned Grammy-winning Spanish documentary “Entre2aguas”and the Hollywood movie “Noah”\, These appearances were the first to feature the Qanun as a multi-genre instrument on a grand scale. Ali has also collaborated with numerous world-renowned artists to benefit the work of doctors without borders and keep a child alive including a duet song with Spanish star Alejandro Sanz. \nEclectic violinist Briana Di Mara brings her love of the instrument and its myriad voices to every performance. She was trained in western classical music as a child and has since gone on to study a variety of traditional styles including Celtic\, Balkan\, Persian\, and Arabic. She harmoniously weaves these influences into own unique sound\, as well as into her original compositions. She is known for her evocative improvisations and amazing ability to play a broad range of genres from many different cultures. \nBriana has performed and recorded with numerous artists in the Bay Area and beyond and enjoys teaching students of all ages. \nHer debut album\, “Haven”\, has earned rave reviews and reflects the amazing collaborations that she has built around her compositions. More info here \nFor more info\, check out the new On the Plaza schedule.
URL:https://www.downtownberkeley.com/dtb-event/bayngels/
LOCATION:Downtown Berkeley Plaza\, Berkeley\, CA\, 94720\, United States
CATEGORIES:Music
ATTACH;FMTTYPE=image/jpeg:https://www.downtownberkeley.com/wp-content/uploads/2018/11/old-first2.jpg
END:VEVENT
BEGIN:VEVENT
DTSTART;TZID=America/Denver:20181103T160000
DTEND;TZID=America/Denver:20181103T173000
DTSTAMP:20260424T063504
CREATED:20181101T223416Z
LAST-MODIFIED:20181101T223416Z
UID:17005-1541260800-1541266200@www.downtownberkeley.com
SUMMARY:Dou Universal
DESCRIPTION:Check out Dou Universal\, lead by Danilo Paiz\, an amazing band who play a full range of genres: Jazz Standards\, Swing\, Blues\, R&B\, Pop\, Latin Jazz\, Salsa\, Merengue\, Cumbia\, Cha Cha\, Cuban Son and even Mariachi. \nHere’s a video! \nFor more info\, check out the new On the Plaza schedule.
URL:https://www.downtownberkeley.com/dtb-event/dou-universal/
LOCATION:Downtown Berkeley Plaza\, Berkeley\, CA\, 94720\, United States
CATEGORIES:Music
ATTACH;FMTTYPE=image/jpeg:https://www.downtownberkeley.com/wp-content/uploads/2018/11/Duo-Universal.jpg
END:VEVENT
BEGIN:VEVENT
DTSTART;TZID=America/Denver:20181031T190000
DTEND;TZID=America/Denver:20181031T220000
DTSTAMP:20260424T063504
CREATED:20180928T212645Z
LAST-MODIFIED:20181029T234232Z
UID:15757-1541012400-1541023200@www.downtownberkeley.com
SUMMARY:The Rocky Horror Picture Show
DESCRIPTION:The Rocky Horror Picture Show\nOctober 31st 7-10 pm  \nRelive this cult classic on screen\, complete with the Bay Area’s premier live cast\, Barely Legal! Sweethearts Janet and Brad stumble upon the flirtatious mad scientist\, Dr. Frank-N-Furter’s\, bizarre abode during his annual Transylvanian science convention. Audience participation is expected. Burlesque show included\, plus prizes for best costumes. \nGet Tickets Now! 
URL:https://www.downtownberkeley.com/dtb-event/the-rocky-horror-picture-show/
LOCATION:The UC Theatre\, 2036 University Ave\, Berkeley\, CA\, 94704\, United States
CATEGORIES:Music,Theater & Dance
ATTACH;FMTTYPE=image/jpeg:https://www.downtownberkeley.com/wp-content/uploads/2018/10/Rock-Horror.jpg
END:VEVENT
BEGIN:VEVENT
DTSTART;TZID=America/Denver:20181030T120000
DTEND;TZID=America/Denver:20181030T130000
DTSTAMP:20260424T063504
CREATED:20181029T222118Z
LAST-MODIFIED:20181029T225749Z
UID:16977-1540900800-1540904400@www.downtownberkeley.com
SUMMARY:Duo Paz - Spanish Guitar
DESCRIPTION:Enjoy a little Spanish guitar on the plaza by Duo Paz. \nFor more info\, check out the new On the Plaza schedule.
URL:https://www.downtownberkeley.com/dtb-event/duo-paz-spanish-guitar/
LOCATION:Downtown Berkeley Plaza\, Berkeley\, CA\, 94720\, United States
CATEGORIES:Music
ATTACH;FMTTYPE=image/jpeg:https://www.downtownberkeley.com/wp-content/uploads/2018/10/Duo-Paz.jpg
END:VEVENT
BEGIN:VEVENT
DTSTART;TZID=America/Denver:20181027T170000
DTEND;TZID=America/Denver:20181027T180000
DTSTAMP:20260424T063504
CREATED:20181019T181842Z
LAST-MODIFIED:20181019T181951Z
UID:16218-1540659600-1540663200@www.downtownberkeley.com
SUMMARY:Penny Opry
DESCRIPTION:From 5-6PM\, enjoy Penny Opry – curators of fine old-timey music. \n \nFor more info\, check out the new On the Plaza schedule.
URL:https://www.downtownberkeley.com/dtb-event/penny-opry/
LOCATION:Berkeley\, CA\, 94704\, United States
CATEGORIES:Community Events,Music
ATTACH;FMTTYPE=image/jpeg:https://www.downtownberkeley.com/wp-content/uploads/2018/10/Penny-Opry.jpg
END:VEVENT
BEGIN:VEVENT
DTSTART;TZID=America/Denver:20181027T154500
DTEND;TZID=America/Denver:20181027T174500
DTSTAMP:20260424T063504
CREATED:20181025T164516Z
LAST-MODIFIED:20181025T164802Z
UID:16946-1540655100-1540662300@www.downtownberkeley.com
SUMMARY:Fanfare Zambaleta
DESCRIPTION:From 3:45-5:45PM\, check out the Balkan Brass band Fanfare Zambaleta ft. Greg Jenkins\, alto sax\, clarinet\, vocals; Peter Bonos\, trumpet; Max Miller-Loran\, trumpet; Joseph Friedman\, alto sax; Rachel MacFarlane\, tenor horn; Andrew Cohen & Larry Leight\, euphonium; Evan Stuart\, sousaphone & Ivan Velev\, tapan.
URL:https://www.downtownberkeley.com/dtb-event/fanfare-zambaleta/
LOCATION:Downtown Berkeley Plaza\, Berkeley\, CA\, 94720\, United States
CATEGORIES:Music
ATTACH;FMTTYPE=image/jpeg:https://www.downtownberkeley.com/wp-content/uploads/2018/10/Fanfare-Zambaleta.jpg
END:VEVENT
BEGIN:VEVENT
DTSTART;TZID=America/Denver:20181027T140000
DTEND;TZID=America/Denver:20181027T150000
DTSTAMP:20260424T063504
CREATED:20181019T181331Z
LAST-MODIFIED:20181025T163428Z
UID:16215-1540648800-1540652400@www.downtownberkeley.com
SUMMARY:Mini Mix'd
DESCRIPTION:From 1-2PM\, enjoy Mini Mix’d! \nMini Mix’d is a group of youth activists\, thinkers and movers. The girls are between 10 to 17 years old\, from multiple Bay Area schools who engage in building community through Hip Hop/Club movement\, music\, culture and performance. Mini Mix’d also promotes positive self image practices\, challenges ideas and asks questions\, build on communication skills and most importantly advocate for the empowerment of self and others. Read more here.\n\nFor more info\, check out the new On the Plaza schedule.
URL:https://www.downtownberkeley.com/dtb-event/minimxd/
LOCATION:Downtown Berkeley Plaza\, Berkeley\, CA\, 94720\, United States
CATEGORIES:Music
END:VEVENT
BEGIN:VEVENT
DTSTART;TZID=America/Denver:20181026T160000
DTEND;TZID=America/Denver:20181026T200000
DTSTAMP:20260424T063504
CREATED:20181026T003052Z
LAST-MODIFIED:20181026T003052Z
UID:16955-1540569600-1540584000@www.downtownberkeley.com
SUMMARY:BroakleyBoiz
DESCRIPTION:From 4-8PM check out the BroakleyBoiz is an Oakland based art collective and DJ family partnering with indy artists and musicians to bring you dope music events\, limited edition apparel\, swag and collaborations and more. \nFor more info\, check out the new On the Plaza schedule.
URL:https://www.downtownberkeley.com/dtb-event/broakleyboiz-2/
LOCATION:Downtown Berkeley Plaza\, Berkeley\, CA\, 94720\, United States
CATEGORIES:Music
ATTACH;FMTTYPE=image/jpeg:https://www.downtownberkeley.com/wp-content/uploads/2018/10/IMG_1867.jpg
END:VEVENT
BEGIN:VEVENT
DTSTART;TZID=America/Denver:20181025T120000
DTEND;TZID=America/Denver:20181025T130000
DTSTAMP:20260424T063504
CREATED:20181023T190958Z
LAST-MODIFIED:20181023T230344Z
UID:16326-1540468800-1540472400@www.downtownberkeley.com
SUMMARY:Berkeley Symphony - Brass Trio
DESCRIPTION:Enjoy the sweet music of our very on Berkeley Symphony featuring a brass trio during the lunch hour of 12-1PM on the Downtown Berkeley Plaza. \nFor more info\, check out the new On the Plaza schedule.
URL:https://www.downtownberkeley.com/dtb-event/berkeley-symphony-3-brass/
LOCATION:Downtown Berkeley Plaza\, Berkeley\, CA\, 94720\, United States
CATEGORIES:Music
ATTACH;FMTTYPE=image/jpeg:https://www.downtownberkeley.com/wp-content/uploads/2018/10/Joana-the-orchestra-Photo-by-Dave-Weiland-1.jpg
END:VEVENT
BEGIN:VEVENT
DTSTART;TZID=America/Denver:20181023T120000
DTEND;TZID=America/Denver:20181023T130000
DTSTAMP:20260424T063504
CREATED:20181017T221234Z
LAST-MODIFIED:20181023T190415Z
UID:16142-1540296000-1540299600@www.downtownberkeley.com
SUMMARY:Jazz Lunch w. LoCura
DESCRIPTION:Enjoy a jazzy lunch with LoCura\, playing from 12-1PM. \nFor more info\, check out the new On the Plaza schedule.
URL:https://www.downtownberkeley.com/dtb-event/jazz-lunch-w-locura/
LOCATION:Downtown Berkeley Plaza\, Berkeley\, CA\, 94720\, United States
CATEGORIES:Music
ATTACH;FMTTYPE=image/jpeg:https://www.downtownberkeley.com/wp-content/uploads/2018/10/locuramusica.jpg
END:VEVENT
BEGIN:VEVENT
DTSTART;TZID=America/Denver:20181021T153000
DTEND;TZID=America/Denver:20181021T170000
DTSTAMP:20260424T063504
CREATED:20181019T180727Z
LAST-MODIFIED:20181019T180727Z
UID:16181-1540135800-1540141200@www.downtownberkeley.com
SUMMARY:Funky Gators - Amazing Zydeco Dance Band
DESCRIPTION:From 3:30-5PM meet the Funky Gators! Already familiar? Then you know they’ll get you moving in ways you never thought before with their amazing Zydeco music all for your dancing and listening pleasure! \nFor more info\, check out the new On the Plaza schedule.
URL:https://www.downtownberkeley.com/dtb-event/funky-gators-amazing-zydeco-dance-band/
LOCATION:Downtown Berkeley Plaza\, Berkeley\, CA\, 94720\, United States
CATEGORIES:Community Events,Music
ATTACH;FMTTYPE=image/jpeg:https://www.downtownberkeley.com/wp-content/uploads/2018/10/funky-gators.jpg
END:VEVENT
BEGIN:VEVENT
DTSTART;TZID=America/Denver:20181021T140000
DTEND;TZID=America/Denver:20181021T150000
DTSTAMP:20260424T063504
CREATED:20181009T195937Z
LAST-MODIFIED:20181009T200021Z
UID:16037-1540130400-1540134000@www.downtownberkeley.com
SUMMARY:Live Jazz On the Plaza
DESCRIPTION:Live Jazz\nSunday\, Oct 21st\n2pm – 3pm \nJazz out with free outdoor live music featuring some amazing music from talented artists.\n \nMore Info
URL:https://www.downtownberkeley.com/dtb-event/live-jazz-on-the-plaza/
LOCATION:Downtown Berkeley Plaza\, Berkeley\, CA\, 94720\, United States
CATEGORIES:Community Events,Music
END:VEVENT
BEGIN:VEVENT
DTSTART;TZID=America/Denver:20181021T130000
DTEND;TZID=America/Denver:20181021T150000
DTSTAMP:20260424T063504
CREATED:20181017T225955Z
LAST-MODIFIED:20181017T225955Z
UID:16157-1540126800-1540134000@www.downtownberkeley.com
SUMMARY:Live Music with Flamenco de Malaga
DESCRIPTION:From 1-3PM\, enjoy live music with Flamenco de Malaga! \nFor more info\, check out the new On the Plaza schedule.
URL:https://www.downtownberkeley.com/dtb-event/live-music-with-flamenco-de-malaga/
LOCATION:Downtown Berkeley Plaza\, Berkeley\, CA\, 94720\, United States
CATEGORIES:Community Events,Music
END:VEVENT
BEGIN:VEVENT
DTSTART;TZID=America/Denver:20181020T183000
DTEND;TZID=America/Denver:20181020T200000
DTSTAMP:20260424T063504
CREATED:20181017T225815Z
LAST-MODIFIED:20181017T225815Z
UID:16154-1540060200-1540065600@www.downtownberkeley.com
SUMMARY:Live Music w. Pellejo Seco
DESCRIPTION:From 6:30-8PM\, enjoy Live Cuban music with Pelejo Seco! \nFor more info\, check out the new On the Plaza schedule.
URL:https://www.downtownberkeley.com/dtb-event/live-music-w-pellejo-seco/
LOCATION:Downtown Berkeley Plaza\, Berkeley\, CA\, 94720\, United States
CATEGORIES:Music
ATTACH;FMTTYPE=image/jpeg:https://www.downtownberkeley.com/wp-content/uploads/2018/10/Pellejo-Seco001-1.jpg
END:VEVENT
BEGIN:VEVENT
DTSTART;TZID=America/Denver:20181020T170000
DTEND;TZID=America/Denver:20181020T183000
DTSTAMP:20260424T063504
CREATED:20181017T223457Z
LAST-MODIFIED:20181017T223457Z
UID:16151-1540054800-1540060200@www.downtownberkeley.com
SUMMARY:Live Music w. Alegre Sisters
DESCRIPTION:From 5-6:30PM\, enjoy live music with Alegre Sisters \nFor more info\, check out the new On the Plaza schedule.
URL:https://www.downtownberkeley.com/dtb-event/live-music-w-alegre-sisters/
LOCATION:Downtown Berkeley Plaza\, Berkeley\, CA\, 94720\, United States
CATEGORIES:Community Events,Music
ATTACH;FMTTYPE=image/png:https://www.downtownberkeley.com/wp-content/uploads/2018/10/Live-Music-w.-Alegre-Sisters.png
END:VEVENT
BEGIN:VEVENT
DTSTART;TZID=America/Denver:20181020T160000
DTEND;TZID=America/Denver:20181020T170000
DTSTAMP:20260424T063504
CREATED:20181018T000331Z
LAST-MODIFIED:20181018T000331Z
UID:16159-1540051200-1540054800@www.downtownberkeley.com
SUMMARY:Live Music w. Tom Lattanand
DESCRIPTION:From 4-5PM\, enjoy live jazz music with Tom Lattanand. \nFor more info\, check out the new On the Plaza schedule.
URL:https://www.downtownberkeley.com/dtb-event/live-music-tom-lattanand/
LOCATION:Downtown Berkeley Plaza\, Berkeley\, CA\, 94720\, United States
CATEGORIES:Community Events,Music
ATTACH;FMTTYPE=image/jpeg:https://www.downtownberkeley.com/wp-content/uploads/2018/10/IMG_8874-copy.jpg
END:VEVENT
BEGIN:VEVENT
DTSTART;TZID=America/Denver:20181020T140000
DTEND;TZID=America/Denver:20181020T150000
DTSTAMP:20260424T063504
CREATED:20181017T222919Z
LAST-MODIFIED:20181017T222919Z
UID:16149-1540044000-1540047600@www.downtownberkeley.com
SUMMARY:Live Music w. Trio Paz
DESCRIPTION:From 2-3PM\, enjoy live jazz/Spanish classical music with Trio Paz! \nFor more info\, check out the new On the Plaza schedule.
URL:https://www.downtownberkeley.com/dtb-event/live-music-w-trio-paz/
LOCATION:Downtown Berkeley Plaza\, Berkeley\, CA\, 94720\, United States
CATEGORIES:Community Events,Music
END:VEVENT
BEGIN:VEVENT
DTSTART;TZID=America/Denver:20181020T130000
DTEND;TZID=America/Denver:20181020T140000
DTSTAMP:20260424T063504
CREATED:20181017T222316Z
LAST-MODIFIED:20181017T222316Z
UID:16146-1540040400-1540044000@www.downtownberkeley.com
SUMMARY:Kids Busking for Change
DESCRIPTION:From 1-2PM\, bring the family and enjoy live music with Kids Busking for Change! \nFor more info\, check out the new On the Plaza schedule.
URL:https://www.downtownberkeley.com/dtb-event/kids-busking-for-change/
LOCATION:Berkeley\, CA\, 94704\, United States
CATEGORIES:Community Events,Music
END:VEVENT
BEGIN:VEVENT
DTSTART;TZID=America/Denver:20181020T120000
DTEND;TZID=America/Denver:20181020T140000
DTSTAMP:20260424T063504
CREATED:20181017T002813Z
LAST-MODIFIED:20181019T175041Z
UID:16110-1540036800-1540044000@www.downtownberkeley.com
SUMMARY:Family Show w. Little Folkies
DESCRIPTION:Family Show w. Little Folkies\nFriday Oct 20th from 12pm – 2pm \nFrom 12-1PM\, bring the family and enjoy making music with Little Folkies! For more info\, check out the new On the Plaza schedule.
URL:https://www.downtownberkeley.com/dtb-event/family-show-w-little-folkies/
LOCATION:Downtown Berkeley Plaza\, Berkeley\, CA\, 94720\, United States
CATEGORIES:Community Events,Music
ATTACH;FMTTYPE=image/jpeg:https://www.downtownberkeley.com/wp-content/uploads/2018/10/littlefolkiesfallfinal.jpg
END:VEVENT
BEGIN:VEVENT
DTSTART;TZID=America/Denver:20181019T173000
DTEND;TZID=America/Denver:20181019T190000
DTSTAMP:20260424T063504
CREATED:20181017T002111Z
LAST-MODIFIED:20181017T002143Z
UID:16106-1539970200-1539975600@www.downtownberkeley.com
SUMMARY:Beatboxing Cellist\, Cello Joe!
DESCRIPTION:Cello Joe\nFriday Oct 19th from 5:30-7PM \nFrom 5:30-7PM\, enjoy Cello Joe the wildest beatboxing cellist in the West! For more info\, check out the new On the Plaza schedule.
URL:https://www.downtownberkeley.com/dtb-event/cello-joe/
LOCATION:Downtown Berkeley Plaza\, Berkeley\, CA\, 94720\, United States
CATEGORIES:Community Events,Music
ATTACH;FMTTYPE=image/png:https://www.downtownberkeley.com/wp-content/uploads/2018/10/Screen-Shot-2018-10-16-at-5.18.41-PM.png
END:VEVENT
BEGIN:VEVENT
DTSTART;TZID=America/Denver:20181019T163000
DTEND;TZID=America/Denver:20181019T173000
DTSTAMP:20260424T063504
CREATED:20181017T214253Z
LAST-MODIFIED:20181017T214946Z
UID:16136-1539966600-1539970200@www.downtownberkeley.com
SUMMARY:BroakleyBoiz
DESCRIPTION:From 4:30-5:30PM check out the BroakleyBoiz is an Oakland based art collective and DJ family partnering with indy artists and musicians to bring you dope music events\, limited edition apparel\, swag and collaborations and more. \nAlso playing from 7-8PM same day! \nFor more info\, check out the new On the Plaza schedule.
URL:https://www.downtownberkeley.com/dtb-event/broakleyboiz/
LOCATION:Downtown Berkeley Plaza\, Berkeley\, CA\, 94720\, United States
CATEGORIES:Community Events,Music
ATTACH;FMTTYPE=image/jpeg:https://www.downtownberkeley.com/wp-content/uploads/2018/10/IMG_1867.jpg
END:VEVENT
BEGIN:VEVENT
DTSTART;TZID=America/Denver:20181018T190000
DTEND;TZID=America/Denver:20181018T200000
DTSTAMP:20260424T063504
CREATED:20181017T205626Z
LAST-MODIFIED:20181017T210926Z
UID:16128-1539889200-1539892800@www.downtownberkeley.com
SUMMARY:DJ Issac Money
DESCRIPTION:From 7-8PM\, enjoy DJ Issac Money – local DJ spinnin’ old school beats! \nFor more info\, check out the new On the Plaza schedule.
URL:https://www.downtownberkeley.com/dtb-event/dj-issac-money/
LOCATION:Downtown Berkeley Plaza\, Berkeley\, CA\, 94720\, United States
CATEGORIES:Community Events,Music
END:VEVENT
BEGIN:VEVENT
DTSTART;TZID=America/Denver:20181018T173000
DTEND;TZID=America/Denver:20181018T183000
DTSTAMP:20260424T063504
CREATED:20181016T222757Z
LAST-MODIFIED:20181017T001147Z
UID:16101-1539883800-1539887400@www.downtownberkeley.com
SUMMARY:Live Music w. Mission Delirium
DESCRIPTION:Live Music w. Mission Delirium\nThursday\, Oct 18 from 5:30-6:30PM\nDowntown Berkeley BART Plaza \nLive Music w. Mission Delirium! Enjoy live music on the new Downtown Berkeley BART Plaza. For more info\, check out the new On the Plaza schedule.
URL:https://www.downtownberkeley.com/dtb-event/live-music-w-mission-delirium/
LOCATION:Downtown Berkeley Plaza\, Berkeley\, CA\, 94720\, United States
CATEGORIES:Community Events,Music
ATTACH;FMTTYPE=image/png:https://www.downtownberkeley.com/wp-content/uploads/2018/10/Screen-Shot-2018-10-16-at-1.49.29-PM.png
END:VEVENT
BEGIN:VEVENT
DTSTART;TZID=America/Denver:20181018T160000
DTEND;TZID=America/Denver:20181018T200000
DTSTAMP:20260424T063504
CREATED:20181004T165108Z
LAST-MODIFIED:20181016T221007Z
UID:15862-1539878400-1539892800@www.downtownberkeley.com
SUMMARY:Downtown Berkeley Plaza Opening
DESCRIPTION:BART Plaza Opening Celebration\nThursday\, October 18th at 4PM \nThe new BART Plaza and main entrance opens at 4pm\, Thursday\, October 18! Mayor Jesse Arreguín will lead the ribbon cutting at 4pm\, followed by the unveiling of Michael Christian’s “Home” sculpture accompanied by the Berkeley Symphony\, followed by the premiere presentation of the new immersive sound art composition by Chris Brown and an evening of live music at the Berkeley LIVE! stage. \nCommemorative posters will be available to all attendees! \nThe opening kicks off a weekend celebration and ongoing programming in our new plaza. Check out the schedule on the new On The Plaza Website by clicking here! \n\n\n\n\n\n\n\n\n \nClick here to download this commemorative poster!
URL:https://www.downtownberkeley.com/dtb-event/downtown-berkeley-plaza-opening/
LOCATION:Downtown Berkeley Plaza\, Berkeley\, CA\, 94720\, United States
CATEGORIES:Community Events,Food and Drink,Music,Visual Arts
END:VEVENT
BEGIN:VEVENT
DTSTART;TZID=America/Denver:20181014T200000
DTEND;TZID=America/Denver:20181014T220000
DTSTAMP:20260424T063504
CREATED:20181003T203334Z
LAST-MODIFIED:20181005T175734Z
UID:15818-1539547200-1539554400@www.downtownberkeley.com
SUMMARY:Halloween Burlesque Dinner Show
DESCRIPTION:  \n \nHalloween Burlesque Dinner Show \nOctober 14th 8-10 pm  \nOur October show is hosted by Sgt. Die Wies and features the talents of Siren Sapphire leading our show off in song\, with a fire act from Afina Flint\, joining us from Sacramento is Cybil Unrest PLUS MUCH MORE to be announced! \nBuy Tickets Now! 
URL:https://www.downtownberkeley.com/dtb-event/halloween-burlesque-dinner-show/
LOCATION:Revival Bar + Kitchen\, 2102 Shattuck Ave\, Berkeley\, 94704\, United States
CATEGORIES:Food and Drink,Music
END:VEVENT
BEGIN:VEVENT
DTSTART;TZID=America/Denver:20181011T193000
DTEND;TZID=America/Denver:20181011T230000
DTSTAMP:20260424T063504
CREATED:20181003T210104Z
LAST-MODIFIED:20181009T193144Z
UID:15842-1539286200-1539298800@www.downtownberkeley.com
SUMMARY:Too Many Zooz
DESCRIPTION:Too Many Zooz \nOctober 11th 7:30-11 pm  \nAt the 2016 CMA Awards one sound burst from the stage like a thunderquake. As Beyoncé performed “Daddy Lessons” accompanied by Dixie Chicks and Too Many Zooz — the New York City trio which originally recorded the song on the star’s Lemonade album — TMZ brought the sound of the street to Beyoncé’s glittering musical declaration. Glued to their smart phones\, tablets\, and TVs\, America beheld Too Many Zooz’ innovative polyglot style. \nBuy Tickets Now! 
URL:https://www.downtownberkeley.com/dtb-event/too-many-zooz/
LOCATION:Cornerstone\, 2367 Shattuck Ave\, Berkeley\, 94704\, United States
CATEGORIES:Music
ORGANIZER;CN="Cornerstone Berkeley":MAILTO:cornerstoneberkeley@gmail.com
END:VEVENT
BEGIN:VEVENT
DTSTART;TZID=America/Denver:20181011T190000
DTEND;TZID=America/Denver:20181011T220000
DTSTAMP:20260424T063504
CREATED:20181003T215956Z
LAST-MODIFIED:20181005T175106Z
UID:15854-1539284400-1539295200@www.downtownberkeley.com
SUMMARY:Get The Led Out
DESCRIPTION:Get The Led Out \nOctober 11th 7-10 pm \nFrom the bombastic and epic\, to the folky and mystical\, Get The Led Out (GTLO) have captured the essence of the recorded music of Led Zeppelin and brought it to the concert stage. The Philadelphia-based group consists of six veteran musicians intent on delivering Led Zeppelin live\, like you’ve never heard before. \nGet Tickets Now! 
URL:https://www.downtownberkeley.com/dtb-event/get-the-led-out/
LOCATION:The UC Theatre\, 2036 University Ave\, Berkeley\, CA\, 94704\, United States
CATEGORIES:Music
END:VEVENT
END:VCALENDAR