BEGIN:VCALENDAR
VERSION:2.0
PRODID:-//DOWNTOWN BERKELEY - ECPv6.15.17.1//NONSGML v1.0//EN
CALSCALE:GREGORIAN
METHOD:PUBLISH
X-ORIGINAL-URL:https://www.downtownberkeley.com
X-WR-CALDESC:Events for DOWNTOWN BERKELEY
REFRESH-INTERVAL;VALUE=DURATION:PT1H
X-Robots-Tag:noindex
X-PUBLISHED-TTL:PT1H
BEGIN:VTIMEZONE
TZID:America/Denver
BEGIN:DAYLIGHT
TZOFFSETFROM:-0700
TZOFFSETTO:-0600
TZNAME:MDT
DTSTART:20180311T090000
END:DAYLIGHT
BEGIN:STANDARD
TZOFFSETFROM:-0600
TZOFFSETTO:-0700
TZNAME:MST
DTSTART:20181104T080000
END:STANDARD
BEGIN:DAYLIGHT
TZOFFSETFROM:-0700
TZOFFSETTO:-0600
TZNAME:MDT
DTSTART:20190310T090000
END:DAYLIGHT
BEGIN:STANDARD
TZOFFSETFROM:-0600
TZOFFSETTO:-0700
TZNAME:MST
DTSTART:20191103T080000
END:STANDARD
BEGIN:DAYLIGHT
TZOFFSETFROM:-0700
TZOFFSETTO:-0600
TZNAME:MDT
DTSTART:20200308T090000
END:DAYLIGHT
BEGIN:STANDARD
TZOFFSETFROM:-0600
TZOFFSETTO:-0700
TZNAME:MST
DTSTART:20201101T080000
END:STANDARD
BEGIN:DAYLIGHT
TZOFFSETFROM:-0700
TZOFFSETTO:-0600
TZNAME:MDT
DTSTART:20210314T090000
END:DAYLIGHT
BEGIN:STANDARD
TZOFFSETFROM:-0600
TZOFFSETTO:-0700
TZNAME:MST
DTSTART:20211107T080000
END:STANDARD
END:VTIMEZONE
BEGIN:VEVENT
DTSTART;TZID=America/Denver:20200131T200000
DTEND;TZID=America/Denver:20200131T220000
DTSTAMP:20260419T050544
CREATED:20190827T200723Z
LAST-MODIFIED:20190827T200723Z
UID:21791-1580500800-1580508000@www.downtownberkeley.com
SUMMARY:Aurora Presents: The Children by Lucy Kirkwood | Directed by Barbara Damashek
DESCRIPTION:A long-married couple live in a ramshackle cottage near the edge of a nuclear disaster that recalls the 2011 Fukushima catastrophe. Intruding into their somewhat eccentric existence comes Rose\, a former co-worker at the power station whose appearance after 30 years is a mystery that will inspire both laughter and an increasing sense of menace. But Rose is on an important mission.
URL:https://www.downtownberkeley.com/dtb-event/aurora-presents-the-children-by-lucy-kirkwood-directed-by-barbara-damashek/
LOCATION:The Aurora Theatre\, 2081 Addison Street\, Berkeley\, CA\, 94704\, United States
CATEGORIES:Movies,Theater & Dance
ATTACH;FMTTYPE=image/png:https://www.downtownberkeley.com/wp-content/uploads/2019/08/image-23.png
END:VEVENT
BEGIN:VEVENT
DTSTART;TZID=America/Denver:20191013T160000
DTEND;TZID=America/Denver:20191013T180000
DTSTAMP:20260419T050544
CREATED:20190827T193230Z
LAST-MODIFIED:20191011T190117Z
UID:21786-1570982400-1570989600@www.downtownberkeley.com
SUMMARY:Berkeley Live Presents: Berkeley Symphony on The Plaza
DESCRIPTION:Location: Downtown Berkeley BART Plaza off Shattuck Ave. (between Center Street and Allston Way) \n\nBerkeley Symphony’s brand-new Music Director Joseph Young makes his first official community appearance for a live\, open air performance at Berkeley Symphony Live! On the Plaza. Displaying its adventurous\, award-winning programming and commitment to new music\, selected musicians from the Orchestra will perform arrangements of some of the most popular masterworks in classical music history including Beethoven’s Symphony No. 5\, Mozart’s The Marriage of Figaro and Brahms Hungarian Dance No. 5\, alongside more recent works by acclaimed composers Gabriela Lena Frank and George Walker. \nAudience members will also be invited onto the podium to conduct music by some of their favorite composers while receiving expert instruction\, tips and support from our very own Joseph Young. All ages are welcome and no experience is necessary! \nVisit Maestro Young’s website for more \nMeet the Orchestra
URL:https://www.downtownberkeley.com/dtb-event/berkeley-live-presents-berkeley-symphony-on-the-plaza/
LOCATION:Downtown Berkeley Plaza\, Berkeley\, CA\, 94720\, United States
CATEGORIES:Live Music,Movies,Outdoor Event
ORGANIZER;CN="Downtown Berkeley Association":MAILTO:info@downtownberkeley.com
END:VEVENT
BEGIN:VEVENT
DTSTART;TZID=America/Denver:20191012T120000
DTEND;TZID=America/Denver:20191012T143000
DTSTAMP:20260419T050544
CREATED:20191008T223726Z
LAST-MODIFIED:20191008T223726Z
UID:22255-1570881600-1570890600@www.downtownberkeley.com
SUMMARY:Freight & Salvage Presents: Superfest Disability Film Festival
DESCRIPTION:  \nStill from Fixed: The Science/Fiction of Human Enhancement\, 2015 Best of Festival Award \nSuperfest Disability Film Festival is the longest running disability film festival in the world. Since it first debuted in a small Los Angeles showcase in 1970\, it has become an eagerly anticipated international event—co-produced by San Francisco’s LightHouse for the Blind and Visually Impaired and the Paul K. Longmore Institute on Disability at San Francisco State University. \nFor more than 30 festivals\, Superfest has celebrated cutting-edge cinema that portrays disability through a diverse\, complex\, unabashed and engaging lens. Superfest is one of the few festivals worldwide that is accessible to disabled filmgoers of all kinds. \nwww.superfestfilm.com
URL:https://www.downtownberkeley.com/dtb-event/freight-salvage-presents-superfest-disability-film-festival/
LOCATION:Freight & Salvage\, 2020 Addison Street\, Berkeley\, CA\, 94704\, United States
CATEGORIES:Live Screenings,Movies
END:VEVENT
BEGIN:VEVENT
DTSTART;TZID=America/Denver:20190912T190000
DTEND;TZID=America/Denver:20190912T203000
DTSTAMP:20260419T050544
CREATED:20190904T212150Z
LAST-MODIFIED:20190904T212150Z
UID:21879-1568314800-1568320200@www.downtownberkeley.com
SUMMARY:BAMPFA Presents: This Ain’t No Mouse Music!
DESCRIPTION:7pm Screening: This Ain’t No Mouse Music! \n“In This Ain’t No Mouse Music!\, their vivid portrait of an obsessive sonic sleuth\, Simon and Gosling take a hip-shaking stroll from New Orleans to Appalachia and right into the very DNA of rock ’n’ roll. For more info Click here
URL:https://www.downtownberkeley.com/dtb-event/bampfa-presents-this-aint-no-mouse-music/
LOCATION:BAMPFA Outdoor Screen\, Addison and Oxford\, Berkeley\, CA\, 94704\, United States
CATEGORIES:Community Events,Live Screenings,Movies,Outdoor Event
END:VEVENT
BEGIN:VEVENT
DTSTART;TZID=America/Denver:20190904T190000
DTEND;TZID=America/Denver:20190904T190000
DTSTAMP:20260419T050544
CREATED:20190827T182514Z
LAST-MODIFIED:20190827T182514Z
UID:21784-1567623600-1567623600@www.downtownberkeley.com
SUMMARY:Aurora Theatre Presents: Bull in a China Shop
DESCRIPTION:Fierce feminist Mary Woolley becomes the president of Mount Holyoke College in 1901\, on a crusade to stop training pious wives and start giving women a real education. The students respond\, even starting a fan club for Woolley’s longterm romance with teacher Jeannette Marks. But leading a revolution from inside an institution isn’t easy\, and neither is maintaining a relationship through years of challenges and change.
URL:https://www.downtownberkeley.com/dtb-event/aurora-theatre-presents-bull-in-a-china-shop-2/
LOCATION:The Aurora Theatre\, 2081 Addison Street\, Berkeley\, CA\, 94704\, United States
CATEGORIES:Movies,Theater & Dance
ATTACH;FMTTYPE=image/png:https://www.downtownberkeley.com/wp-content/uploads/2019/08/image-20.png
END:VEVENT
BEGIN:VEVENT
DTSTART;TZID=America/Denver:20190830T200000
DTEND;TZID=America/Denver:20190830T220000
DTSTAMP:20260419T050544
CREATED:20190827T172547Z
LAST-MODIFIED:20190827T195714Z
UID:21772-1567195200-1567202400@www.downtownberkeley.com
SUMMARY:Aurora Theatre Presents: Ike Holter's EXIT STRATEGY on Friday 8/30
DESCRIPTION:Five Chicago public school teachers\, their frazzled vice-principal and a defiant but motivated student take on a failing school system in Ike Holter’s sensational new play\, Exit Strategy. Fierce\, funny\, and charged with anger\, the sharply written play follows the motley crew as they band together to save the demolition of their school and regain the optimism and courage they thought they’d lost forever.
URL:https://www.downtownberkeley.com/dtb-event/aurora-theatre-presents-ike-holters-exit-strategy-on-friday-8-30/
LOCATION:The Aurora Theatre\, 2081 Addison Street\, Berkeley\, CA\, 94704\, United States
CATEGORIES:Movies,Other
ATTACH;FMTTYPE=image/png:https://www.downtownberkeley.com/wp-content/uploads/2019/08/image-22.png
END:VEVENT
BEGIN:VEVENT
DTSTART;TZID=America/Denver:20190827T190000
DTEND;TZID=America/Denver:20190827T200000
DTSTAMP:20260419T050544
CREATED:20190819T183321Z
LAST-MODIFIED:20190819T183503Z
UID:21531-1566932400-1566936000@www.downtownberkeley.com
SUMMARY:Films at The Freight: Buena Vista Social Club
DESCRIPTION:Tuesday\, August 27th \nDoors: 6:00 pm / Show: 7:00 pm \n\n$7 ADV / $9 DOOR (plus fees) \nFor more information click here
URL:https://www.downtownberkeley.com/dtb-event/films-at-the-freight-buena-vista-social-club/
LOCATION:Berkeley\, CA\, 94704\, United States
CATEGORIES:Movies,Other
ATTACH;FMTTYPE=image/png:https://www.downtownberkeley.com/wp-content/uploads/2019/08/image-10.png
END:VEVENT
BEGIN:VEVENT
DTSTART;TZID=America/Denver:20190827T080000
DTEND;TZID=America/Denver:20190827T170000
DTSTAMP:20260419T050544
CREATED:20190827T180508Z
LAST-MODIFIED:20190827T180508Z
UID:21777-1566892800-1566925200@www.downtownberkeley.com
SUMMARY:Aurora Theatre Presents: Bull in a China Shop
DESCRIPTION:Fierce feminist Mary Woolley becomes the president of Mount Holyoke College in 1901\, on a crusade to stop training pious wives and start giving women a real education. The students respond\, even starting a fan club for Woolley’s longterm romance with teacher Jeannette Marks. But leading a revolution from inside an institution isn’t easy\, and neither is maintaining a relationship through years of challenges and change.
URL:https://www.downtownberkeley.com/dtb-event/aurora-theatre-presents-bull-in-a-china-shop/
LOCATION:The Aurora Theatre\, 2081 Addison Street\, Berkeley\, CA\, 94704\, United States
CATEGORIES:Movies,Theater & Dance
ATTACH;FMTTYPE=image/png:https://www.downtownberkeley.com/wp-content/uploads/2019/08/image-20.png
END:VEVENT
BEGIN:VEVENT
DTSTART;TZID=America/Denver:20190825T160000
DTEND;TZID=America/Denver:20190825T173000
DTSTAMP:20260419T050544
CREATED:20190822T202511Z
LAST-MODIFIED:20190822T202650Z
UID:21639-1566748800-1566754200@www.downtownberkeley.com
SUMMARY:BAMPFA Presents: Black Life - Levi Maxwell
DESCRIPTION:Levi Maxwell\, a Bay Area–born food justice and youth advocate\, explores the impact of African material culture and agrarian knowledge on colonial economies throughout the transatlantic world\, and discusses the effect of clothing from local populations along the West and Central African coast on Western cultural identity. \nFor more information click here \n 
URL:https://www.downtownberkeley.com/dtb-event/bampfa-presents-black-life-levi-maxwell/
LOCATION:BAMPFA\, 2155 Center Street\, Berkeley\, CA\, 94720\, United States
CATEGORIES:Community Events,Movies,Summer of Love,Visual Arts
ATTACH;FMTTYPE=image/png:https://www.downtownberkeley.com/wp-content/uploads/2019/08/image-15.png
END:VEVENT
BEGIN:VEVENT
DTSTART;TZID=America/Denver:20190824T200000
DTEND;TZID=America/Denver:20190824T220000
DTSTAMP:20260419T050544
CREATED:20190820T203340Z
LAST-MODIFIED:20190820T203649Z
UID:21606-1566676800-1566684000@www.downtownberkeley.com
SUMMARY:Bang Data Band Performs at the Freight and Salvage
DESCRIPTION:Based in Oakland\, California – Bang Data is like California itself – built on Latin traditions\, but deeply hybrid in expression. This beloved SF Bay Area based band – led by singer/emcee Deuce Eclipse who’s well known by hip-hop fans as an accompanying voice to the legendary Zion I\, and producer/instrumentalist Caipo who has become a sought out name producing & mixing in the San Francisco music scene and abroad – they spin cumbia\, hip-hop and rock into a new language of sound for the people. \n  \nFor more information click here
URL:https://www.downtownberkeley.com/dtb-event/bang-data-band-performs-at-the-freight-and-salvage/
LOCATION:Freight & Salvage\, 2020 Addison Street\, Berkeley\, CA\, 94704\, United States
CATEGORIES:Live Music,Movies,Music
ATTACH;FMTTYPE=image/png:https://www.downtownberkeley.com/wp-content/uploads/2019/08/image-13.png
END:VEVENT
BEGIN:VEVENT
DTSTART;TZID=America/Denver:20190820T180000
DTEND;TZID=America/Denver:20190820T200000
DTSTAMP:20260419T050544
CREATED:20190729T171422Z
LAST-MODIFIED:20190729T171832Z
UID:21139-1566324000-1566331200@www.downtownberkeley.com
SUMMARY:The Freight & Salvage Presents: Films at the Freight: Woodstock
DESCRIPTION:Films at The Freight\n\n“With special thanks to the Friends of the Freight\, come celebrate a new screen and projector while enjoying our superb sound system composed of speakers and amplifiers exclusively designed and installed by Meyer Sound Labs of Berkeley with the Films at The Freight!” \n“A great way to enjoy music\, film and community in the Littlefield Listening Room\, come experience some of the most beloved films on music. Carefully curated by The Freight’s program director\, Peter Williams.” \n\n\n\nFor more information click here
URL:https://www.downtownberkeley.com/dtb-event/the-freight-salvage-presents-films-at-the-freight-woodstock/
LOCATION:Freight & Salvage\, 2020 Addison Street\, Berkeley\, CA\, 94704\, United States
CATEGORIES:Community Events,Movies,Summer of Love
ATTACH;FMTTYPE=image/png:https://www.downtownberkeley.com/wp-content/uploads/2019/07/image-22.png
END:VEVENT
BEGIN:VEVENT
DTSTART;TZID=America/Denver:20190808T190000
DTEND;TZID=America/Denver:20190808T210000
DTSTAMP:20260419T050544
CREATED:20190723T222611Z
LAST-MODIFIED:20190723T222611Z
UID:20608-1565290800-1565298000@www.downtownberkeley.com
SUMMARY:BAMPFA Outdoor Summer Cinema: Montery Pop
DESCRIPTION:Monterey Pop: Free Outdoor Screening!\nThursday August 8th\, 7PM \n“The first great pop festival\, the first great festival film” (Greil Marcus). Monterey Pop celebrates the inclusive power of popular music and epitomizes the optimism of the summer of love. \nMore info here
URL:https://www.downtownberkeley.com/dtb-event/bampfa-outdoor-summer-cinema-montery-pop/
LOCATION:BAMPFA Outdoor Screen\, Addison and Oxford\, Berkeley\, CA\, 94704\, United States
CATEGORIES:Movies,Outdoor Event
ATTACH;FMTTYPE=image/png:https://www.downtownberkeley.com/wp-content/uploads/2019/07/BAMPFA_Mont_Pop.png
END:VEVENT
BEGIN:VEVENT
DTSTART;TZID=America/Denver:20190808T190000
DTEND;TZID=America/Denver:20190808T203000
DTSTAMP:20260419T050544
CREATED:20190805T223537Z
LAST-MODIFIED:20190805T223644Z
UID:21317-1565290800-1565296200@www.downtownberkeley.com
SUMMARY:BAMPFA Presents: Monterey Pop: Free Outdoor Screening!
DESCRIPTION:D. A. Pennebaker\nUnited States\, 1968\n“The first great pop festival\, the first great festival film” (Greil Marcus). With legendary performances by Otis Redding\, the Mamas and the Papas\, the Who\, Jimi Hendrix\, Scott McKenzie\, Hugh Masekela\, Canned Heat\, Jefferson Airplane\, the Animals\, Ravi Shankar\, and Janis Joplin\, Monterey Pop celebrates the inclusive power of popular music and epitomizes the optimism of the Summer of Love. \nFor more information click here
URL:https://www.downtownberkeley.com/dtb-event/bampfa-presents-monterey-pop-free-outdoor-screening/
LOCATION:BAMPFA\, 2155 Center Street\, Berkeley\, CA\, 94720\, United States
CATEGORIES:Community Events,Live Screenings,Movies,Other,Visual Arts
ATTACH;FMTTYPE=image/png:https://www.downtownberkeley.com/wp-content/uploads/2019/08/image-2.png
END:VEVENT
BEGIN:VEVENT
DTSTART;TZID=America/Denver:20190806T190000
DTEND;TZID=America/Denver:20190806T210000
DTSTAMP:20260419T050544
CREATED:20190805T221223Z
LAST-MODIFIED:20190805T221409Z
UID:21308-1565118000-1565125200@www.downtownberkeley.com
SUMMARY:Films at The Freight: Muscle Shoals
DESCRIPTION:Films at The Freight\nWith special thanks to the Friends of the Freight\, come celebrate a new screen and projector while enjoying our superb sound system composed of speakers and amplifiers exclusively designed and installed by Meyer Sound Labs of Berkeley with the Films at The Freight! \nFor more information click here
URL:https://www.downtownberkeley.com/dtb-event/films-at-the-freight-muscle-shoals/
LOCATION:Freight & Salvage\, 2020 Addison Street\, Berkeley\, CA\, 94704\, United States
CATEGORIES:Community Events,Food and Drink,Movies
ATTACH;FMTTYPE=image/png:https://www.downtownberkeley.com/wp-content/uploads/2019/08/image.png
END:VEVENT
BEGIN:VEVENT
DTSTART;TZID=America/Denver:20190802T180000
DTEND;TZID=America/Denver:20190802T200000
DTSTAMP:20260419T050544
CREATED:20190725T221916Z
LAST-MODIFIED:20190725T221916Z
UID:21127-1564768800-1564776000@www.downtownberkeley.com
SUMMARY:DJ Yuka Yu on the Plaza
DESCRIPTION:Hailing from Taipei\, Taiwan\, a city with a thriving nightlife that goes until the wee hours of the morning\, Yuka grew up with the birth of the electronic music scene in Asia in the late 90s. Taiwan is a renegade democratic island that become independent from China. She is Taiwanese\, Dutch\, and Japanese. She began DJ’ing while living in London in Camden town\, getting trained at the London Sound Academy.
URL:https://www.downtownberkeley.com/dtb-event/dj-yuka-yu-on-the-plaza/
LOCATION:Downtown Berkeley Plaza\, Berkeley\, CA\, 94720\, United States
CATEGORIES:Community Events,Movies
ATTACH;FMTTYPE=image/png:https://www.downtownberkeley.com/wp-content/uploads/2019/07/DJ_lunch2019.png
ORGANIZER;CN="Downtown Berkeley Association":MAILTO:info@downtownberkeley.com
END:VEVENT
BEGIN:VEVENT
DTSTART;VALUE=DATE:20190717
DTEND;VALUE=DATE:20190718
DTSTAMP:20260419T050544
CREATED:20190716T192737Z
LAST-MODIFIED:20190716T193410Z
UID:20554-1563321600-1563407999@www.downtownberkeley.com
SUMMARY:Meditation in Motion: Zen Calligraphy from the Stuart Katz Collection
DESCRIPTION:Meditation in Motion: Zen Calligraphy from the Stuart Katz Collection is the first exhibition at BAMPFA to present the unique art form of Japanese Zen-inspired calligraphy. It features several important works by Chinese Ōbaku monks who immigrated to Japan\, as well as a selection of writings by Japanese monks who followed and expanded on their examples. The exhibition is drawn from the private collection of Stuart Katz\, who has made a promised gift to BAMPFA of these and many more paintings. \nFor more information click here
URL:https://www.downtownberkeley.com/dtb-event/meditation-in-motion-zen-calligraphy-from-the-stuart-katz-collection/
LOCATION:BAMPFA\, 2155 Center Street\, Berkeley\, CA\, 94720\, United States
CATEGORIES:Community Events,Movies
ATTACH;FMTTYPE=image/png:https://www.downtownberkeley.com/wp-content/uploads/2019/07/image-8.png
END:VEVENT
BEGIN:VEVENT
DTSTART;TZID=America/Denver:20190711T190000
DTEND;TZID=America/Denver:20190711T203000
DTSTAMP:20260419T050544
CREATED:20190607T170816Z
LAST-MODIFIED:20190607T171811Z
UID:20106-1562871600-1562877000@www.downtownberkeley.com
SUMMARY:Free Outdoor Summer Cinema: A Hard Day's Night
DESCRIPTION:A Hard Day’s Night: Free Outdoor Screening!\nThursday July 11th\, 7PM \nThe combination of the Beatles’ music\, Lester’s use of techniques assocaiated with cinema verite and the French New Wave in a hybrid documentary/fictional form. \nMore info here
URL:https://www.downtownberkeley.com/dtb-event/free-outdoor-cinema-a-hard-days-night/
LOCATION:BAMPFA Outdoor Screen\, Addison and Oxford\, Berkeley\, CA\, 94704\, United States
CATEGORIES:Movies,Outdoor Event
END:VEVENT
BEGIN:VEVENT
DTSTART;TZID=America/Denver:20190704T160000
DTEND;TZID=America/Denver:20190704T190000
DTSTAMP:20260419T050544
CREATED:20190701T212619Z
LAST-MODIFIED:20190701T212619Z
UID:20415-1562256000-1562266800@www.downtownberkeley.com
SUMMARY:BAMPFA Presents: Five Tables of Collaboration
DESCRIPTION:In art—as in many things—going it alone has its advantages\, but collaboration\, whether fraught or harmonious\, gets amazing things done. Works on view this session: a dozen Qing dynasty artists (including Gong Xian and Hongren) and an equal number of calligraphers combine in a stellar album of Chinese landscapes; Hiroshige and Hokusai get credit for wonderful ukiyo-e prints\, but unsung draftsmen\, carvers\, and printers do most of the heavy lifting; the collectives Ant Farm and T. R. Uthco go to Dallas to reenact history; Federico Castellón and Peter Paone alternate letters in their 1970 Erotic Alphabet; Yoko Ono and John Lennon partner for Fluxus fun in photographic projects; and more! \nFor more information. \n 
URL:https://www.downtownberkeley.com/dtb-event/bampfa-presents-five-tables-of-collaboration/
LOCATION:BAMPFA\, 2155 Center Street\, Berkeley\, CA\, 94720\, United States
CATEGORIES:Community Events,Food and Drink,Movies,Visual Arts
ATTACH;FMTTYPE=image/jpeg:https://www.downtownberkeley.com/wp-content/uploads/2019/07/Event_Five-Tables-of-Collaboration_Untitled-Everson-Catalogue-Box_2019-08-1_001_1200.jpg
END:VEVENT
BEGIN:VEVENT
DTSTART;TZID=America/Denver:20190628T203000
DTEND;TZID=America/Denver:20190628T223000
DTSTAMP:20260419T050544
CREATED:20190626T170615Z
LAST-MODIFIED:20190626T170745Z
UID:20271-1561753800-1561761000@www.downtownberkeley.com
SUMMARY:City of Berkeley Presents: Movies in the Park | All Ages | Free
DESCRIPTION:Join us to watch some of your favorite movies under the stars! Enjoy all the fun of a drive-in movie at one of your beautiful local parks. A large portable 20’ x 12’ inflatable movie screen and premium audio visual movie equipment for outdoor cinemas make Movies in the Park a spectacular event. Please arrive at least 30 minutes before the movie begins.  Bring blankets\, sleeping bags and/or low-back beach chairs with a maximum height of nine inches off the ground\, so the view of other patrons is not blocked. A flashlight or headlamp makes walking out at the end of the night easier. Limited street parking is available. \nFor more Information.
URL:https://www.downtownberkeley.com/dtb-event/city-of-berkeley-presents-movies-in-the-park-all-ages-free/
LOCATION:Codornices Park\, 1201 Euclid Ave\, Berkeley\, Ca 94708\, Berkeley\, CA\, 94704\, United States
CATEGORIES:Movies,Outdoor Event
ATTACH;FMTTYPE=image/png:https://www.downtownberkeley.com/wp-content/uploads/2019/06/Screen-Shot-2019-06-26-at-9.59.11-AM.png
END:VEVENT
BEGIN:VEVENT
DTSTART;TZID=America/Denver:20190620T170000
DTEND;TZID=America/Denver:20190620T190000
DTSTAMP:20260419T050544
CREATED:20190613T195152Z
LAST-MODIFIED:20190613T195152Z
UID:20144-1561050000-1561057200@www.downtownberkeley.com
SUMMARY:Freight On The Plaza Feat. Salsa Edardo Cambon & Latido
DESCRIPTION:Salsa music \nSalsa Edardo Cambon & Latido
URL:https://www.downtownberkeley.com/dtb-event/freight-on-the-plaza-feat-salsa-edardo-cambon-latido/
LOCATION:Downtown Berkeley Plaza\, Berkeley\, CA\, 94720\, United States
CATEGORIES:Community Events,Movies,Outdoor Event
ATTACH;FMTTYPE=image/png:https://www.downtownberkeley.com/wp-content/uploads/2019/06/Freight_ontheplaza_image.png
ORGANIZER;CN="The Freight and Salvage":MAILTO:info@freightandsalvage.org
END:VEVENT
BEGIN:VEVENT
DTSTART;TZID=America/Denver:20190619T190000
DTEND;TZID=America/Denver:20190619T210000
DTSTAMP:20260419T050544
CREATED:20190619T183655Z
LAST-MODIFIED:20190619T183655Z
UID:20255-1560970800-1560978000@www.downtownberkeley.com
SUMMARY:The Lady from Shanghai (BAMPFA)
DESCRIPTION:Welles\, Rita Hayworth\, and a deadly hall of mirrors feature in Welles’s brilliant take on the crime thriller. “Complex\, courageous\, and utterly compelling” (Time Out). \nFor more info.
URL:https://www.downtownberkeley.com/dtb-event/the-lady-from-shanghai-bampfa/
LOCATION:BAMPFA\, 2155 Center Street\, Berkeley\, CA\, 94720\, United States
CATEGORIES:Movies,Visual Arts
END:VEVENT
BEGIN:VEVENT
DTSTART;TZID=America/Denver:20190613T080000
DTEND;TZID=America/Denver:20190613T170000
DTSTAMP:20260419T050544
CREATED:20190607T170230Z
LAST-MODIFIED:20190607T172312Z
UID:20103-1560412800-1560445200@www.downtownberkeley.com
SUMMARY:Free Outdoor Summer Cinema: Stop Making Sense
DESCRIPTION:Stop Making Sense: Free Outdoor Screening!\nThursday June 13th\, 7PM \nOften herald as the greatest rock concert film ever\, Demme’s rendering of a Talking Heads performance moves from David Bryne’s solo “Psyco Killer” to the joyously collective “Take Me to the Rive” (Roger Ebert). More info here
URL:https://www.downtownberkeley.com/dtb-event/free-outdoor-cinema-stop-making-sense/
LOCATION:BAMPFA Outdoor Screen\, Addison and Oxford\, Berkeley\, CA\, 94704\, United States
CATEGORIES:Movies,Outdoor Event
END:VEVENT
END:VCALENDAR