BEGIN:VCALENDAR
VERSION:2.0
PRODID:-//DOWNTOWN BERKELEY - ECPv6.15.17.1//NONSGML v1.0//EN
CALSCALE:GREGORIAN
METHOD:PUBLISH
X-WR-CALNAME:DOWNTOWN BERKELEY
X-ORIGINAL-URL:https://www.downtownberkeley.com
X-WR-CALDESC:Events for DOWNTOWN BERKELEY
REFRESH-INTERVAL;VALUE=DURATION:PT1H
X-Robots-Tag:noindex
X-PUBLISHED-TTL:PT1H
BEGIN:VTIMEZONE
TZID:America/Denver
BEGIN:DAYLIGHT
TZOFFSETFROM:-0700
TZOFFSETTO:-0600
TZNAME:MDT
DTSTART:20180311T090000
END:DAYLIGHT
BEGIN:STANDARD
TZOFFSETFROM:-0600
TZOFFSETTO:-0700
TZNAME:MST
DTSTART:20181104T080000
END:STANDARD
BEGIN:DAYLIGHT
TZOFFSETFROM:-0700
TZOFFSETTO:-0600
TZNAME:MDT
DTSTART:20190310T090000
END:DAYLIGHT
BEGIN:STANDARD
TZOFFSETFROM:-0600
TZOFFSETTO:-0700
TZNAME:MST
DTSTART:20191103T080000
END:STANDARD
BEGIN:DAYLIGHT
TZOFFSETFROM:-0700
TZOFFSETTO:-0600
TZNAME:MDT
DTSTART:20200308T090000
END:DAYLIGHT
BEGIN:STANDARD
TZOFFSETFROM:-0600
TZOFFSETTO:-0700
TZNAME:MST
DTSTART:20201101T080000
END:STANDARD
END:VTIMEZONE
BEGIN:VEVENT
DTSTART;TZID=America/Denver:20191027T113000
DTEND;TZID=America/Denver:20191027T113000
DTSTAMP:20260421T043932
CREATED:20191008T225636Z
LAST-MODIFIED:20191008T225830Z
UID:22269-1572175800-1572175800@www.downtownberkeley.com
SUMMARY:The UC Theater Presents: The Music of Phish for Kids ft. Chum Halloween Spooktacular
DESCRIPTION:The Rock and Roll Playhouse\, a family concert series that allows kids to “move\, play and sing while listening to works from the classic-rock canon” (NY Times). Using the songs created by the most iconic musicians in rock history\, The Rock and Roll Playhouse offers its core audience of babies and kids games\, movement\, and stories and an opportunity to rock out. The Rock and Roll Playhouse is an early and often first introduction to a child’s lifelong journey with live music and rock and roll. \nDoors open at 11am.
URL:https://www.downtownberkeley.com/dtb-event/the-uc-theater-presents-the-music-of-phish-for-kids-ft-chum-halloween-spooktacular/
LOCATION:The UC Theater Taube Family Music Hall\, 2036 University Avenue Berkeley\, Berkeley\, CA\, 94704\, United States
CATEGORIES:Kids & Family,Live Music,Music
END:VEVENT
BEGIN:VEVENT
DTSTART;TZID=America/Denver:20191013T110000
DTEND;TZID=America/Denver:20191013T110000
DTSTAMP:20260421T043932
CREATED:20191009T174700Z
LAST-MODIFIED:20191009T174700Z
UID:22320-1570964400-1570964400@www.downtownberkeley.com
SUMMARY:Freight & Salvage Presents: Patchwork Series - Your Song My Song
DESCRIPTION:YOUR SONG MY SONG \nFacebook | Website\nYour Song My Song returns to The Freight with their collaborative musical\, WATER\, for another morning of rock and roll about the ocean\, puppets\, kiddo guest singers\, sharks and whales. Come be part of the adventure! \nIn their wildly interactive shows for children and families\, silly six-piece band Your Song My Song sings you through watery adventures\, recycling kid revolutionaries\, classic children’s books\, jungle expeditions\, and deep sea dives! Singer and ukulele player Jaime Lee Currier weaves tales of friendship\, love\, and learning\, while guitarist Eric Hart\, violinist Rainbow Rubin\, sax player\, Hank Ibser\, bassist Joe Shaughnessy\, and drummer Nick Jackson keep up a rockin beat. Come sing along and laugh\, shout\, dance\, and imagine with Your Song My Song and their classic kid hits\, interactice improv songs\, and new original story adventure songs which they’ve performed in a multitude of parks\, schools\, camps\, libraries\, clubs\, festivals and museums throughout Northern California. \nYour Song My Song’s first not-JUST-for kids CD\, Off The Blue\, features “What Up Kids\,” “Slippery Fish\,” and a rousing interactive rendition of “Old MacDonald”. \nDoors open at 10:30am\, show starts at 11.
URL:https://www.downtownberkeley.com/dtb-event/freight-salvage-presents-patchwork-series-your-song-my-song/
LOCATION:Freight & Salvage\, 2020 Addison Street\, Berkeley\, CA\, 94704\, United States
CATEGORIES:Kids & Family,Live Music
END:VEVENT
END:VCALENDAR