BEGIN:VCALENDAR
VERSION:2.0
PRODID:-//DOWNTOWN BERKELEY - ECPv6.15.17.1//NONSGML v1.0//EN
CALSCALE:GREGORIAN
METHOD:PUBLISH
X-WR-CALNAME:DOWNTOWN BERKELEY
X-ORIGINAL-URL:https://www.downtownberkeley.com
X-WR-CALDESC:Events for DOWNTOWN BERKELEY
REFRESH-INTERVAL;VALUE=DURATION:PT1H
X-Robots-Tag:noindex
X-PUBLISHED-TTL:PT1H
BEGIN:VTIMEZONE
TZID:America/Denver
BEGIN:DAYLIGHT
TZOFFSETFROM:-0700
TZOFFSETTO:-0600
TZNAME:MDT
DTSTART:20180311T090000
END:DAYLIGHT
BEGIN:STANDARD
TZOFFSETFROM:-0600
TZOFFSETTO:-0700
TZNAME:MST
DTSTART:20181104T080000
END:STANDARD
BEGIN:DAYLIGHT
TZOFFSETFROM:-0700
TZOFFSETTO:-0600
TZNAME:MDT
DTSTART:20190310T090000
END:DAYLIGHT
BEGIN:STANDARD
TZOFFSETFROM:-0600
TZOFFSETTO:-0700
TZNAME:MST
DTSTART:20191103T080000
END:STANDARD
BEGIN:DAYLIGHT
TZOFFSETFROM:-0700
TZOFFSETTO:-0600
TZNAME:MDT
DTSTART:20200308T090000
END:DAYLIGHT
BEGIN:STANDARD
TZOFFSETFROM:-0600
TZOFFSETTO:-0700
TZNAME:MST
DTSTART:20201101T080000
END:STANDARD
END:VTIMEZONE
BEGIN:VEVENT
DTSTART;TZID=America/Denver:20190525T100000
DTEND;TZID=America/Denver:20190525T140000
DTSTAMP:20260425T044833
CREATED:20190417T181902Z
LAST-MODIFIED:20190517T163706Z
UID:19718-1558778400-1558792800@www.downtownberkeley.com
SUMMARY:Western Pacific Bloody Mary Special
DESCRIPTION:Western Pacific Bloody Mary Special  \nSaturday and Sundays 10-2  \nWestern Pacific  \nWhat better way to spend you weekend than with a brunch at Western Pacific. Plus\, they have $5 bloody marys! See you there! \nMore info: 
URL:https://www.downtownberkeley.com/dtb-event/western-pacific-blood-mary-special-2019-05-25/
LOCATION:Western Pacific\, 2286 Shattuck Ave\, Berkeley\, CA\, 94704\, United States
CATEGORIES:Food and Drink
END:VEVENT
BEGIN:VEVENT
DTSTART;TZID=America/Denver:20190519T100000
DTEND;TZID=America/Denver:20190519T140000
DTSTAMP:20260425T044833
CREATED:20190417T181902Z
LAST-MODIFIED:20190517T163706Z
UID:19717-1558260000-1558274400@www.downtownberkeley.com
SUMMARY:Western Pacific Bloody Mary Special
DESCRIPTION:Western Pacific Bloody Mary Special  \nSaturday and Sundays 10-2  \nWestern Pacific  \nWhat better way to spend you weekend than with a brunch at Western Pacific. Plus\, they have $5 bloody marys! See you there! \nMore info: 
URL:https://www.downtownberkeley.com/dtb-event/western-pacific-blood-mary-special-2019-05-19/
LOCATION:Western Pacific\, 2286 Shattuck Ave\, Berkeley\, CA\, 94704\, United States
CATEGORIES:Food and Drink
END:VEVENT
BEGIN:VEVENT
DTSTART;TZID=America/Denver:20190518T100000
DTEND;TZID=America/Denver:20190518T140000
DTSTAMP:20260425T044833
CREATED:20190417T181902Z
LAST-MODIFIED:20190517T163706Z
UID:19716-1558173600-1558188000@www.downtownberkeley.com
SUMMARY:Western Pacific Bloody Mary Special
DESCRIPTION:Western Pacific Bloody Mary Special  \nSaturday and Sundays 10-2  \nWestern Pacific  \nWhat better way to spend you weekend than with a brunch at Western Pacific. Plus\, they have $5 bloody marys! See you there! \nMore info: 
URL:https://www.downtownberkeley.com/dtb-event/western-pacific-blood-mary-special-2019-05-18/
LOCATION:Western Pacific\, 2286 Shattuck Ave\, Berkeley\, CA\, 94704\, United States
CATEGORIES:Food and Drink
END:VEVENT
BEGIN:VEVENT
DTSTART;TZID=America/Denver:20190512T100000
DTEND;TZID=America/Denver:20190512T140000
DTSTAMP:20260425T044833
CREATED:20190417T181902Z
LAST-MODIFIED:20190517T163705Z
UID:19715-1557655200-1557669600@www.downtownberkeley.com
SUMMARY:Western Pacific Bloody Mary Special
DESCRIPTION:Western Pacific Bloody Mary Special  \nSaturday and Sundays 10-2  \nWestern Pacific  \nWhat better way to spend you weekend than with a brunch at Western Pacific. Plus\, they have $5 bloody marys! See you there! \nMore info: 
URL:https://www.downtownberkeley.com/dtb-event/western-pacific-blood-mary-special-2019-05-12/
LOCATION:Western Pacific\, 2286 Shattuck Ave\, Berkeley\, CA\, 94704\, United States
CATEGORIES:Food and Drink
END:VEVENT
BEGIN:VEVENT
DTSTART;TZID=America/Denver:20190511T100000
DTEND;TZID=America/Denver:20190511T140000
DTSTAMP:20260425T044833
CREATED:20190417T181902Z
LAST-MODIFIED:20190517T163705Z
UID:19714-1557568800-1557583200@www.downtownberkeley.com
SUMMARY:Western Pacific Bloody Mary Special
DESCRIPTION:Western Pacific Bloody Mary Special  \nSaturday and Sundays 10-2  \nWestern Pacific  \nWhat better way to spend you weekend than with a brunch at Western Pacific. Plus\, they have $5 bloody marys! See you there! \nMore info: 
URL:https://www.downtownberkeley.com/dtb-event/western-pacific-blood-mary-special-2019-05-11/
LOCATION:Western Pacific\, 2286 Shattuck Ave\, Berkeley\, CA\, 94704\, United States
CATEGORIES:Food and Drink
END:VEVENT
BEGIN:VEVENT
DTSTART;TZID=America/Denver:20190506T180000
DTEND;TZID=America/Denver:20190506T220000
DTSTAMP:20260425T044833
CREATED:20190417T162308Z
LAST-MODIFIED:20190417T162308Z
UID:19702-1557165600-1557180000@www.downtownberkeley.com
SUMMARY:Candlelight Club at Revival Bar and Kitchen
DESCRIPTION:Candlelight Club at Revival Bar and Kitchen \n6PM Mon May 6th \nRevival Bar and Kitchen \nCandle Light Club is a monthly “barn raising'” – an event co-created by a community of passionately curious\, engaged enthusiasts. Come experience some great music\, and stew. \nMore info: 
URL:https://www.downtownberkeley.com/dtb-event/candlelight-club-at-revival-bar-and-kitchen/
LOCATION:Revival Bar + Kitchen\, 2102 Shattuck Ave\, Berkeley\, 94704\, United States
CATEGORIES:Food and Drink,Music
END:VEVENT
BEGIN:VEVENT
DTSTART;TZID=America/Denver:20190505T100000
DTEND;TZID=America/Denver:20190505T140000
DTSTAMP:20260425T044833
CREATED:20190417T181902Z
LAST-MODIFIED:20190517T163705Z
UID:19713-1557050400-1557064800@www.downtownberkeley.com
SUMMARY:Western Pacific Bloody Mary Special
DESCRIPTION:Western Pacific Bloody Mary Special  \nSaturday and Sundays 10-2  \nWestern Pacific  \nWhat better way to spend you weekend than with a brunch at Western Pacific. Plus\, they have $5 bloody marys! See you there! \nMore info: 
URL:https://www.downtownberkeley.com/dtb-event/western-pacific-blood-mary-special-2019-05-05/
LOCATION:Western Pacific\, 2286 Shattuck Ave\, Berkeley\, CA\, 94704\, United States
CATEGORIES:Food and Drink
END:VEVENT
BEGIN:VEVENT
DTSTART;TZID=America/Denver:20190504T100000
DTEND;TZID=America/Denver:20190504T140000
DTSTAMP:20260425T044833
CREATED:20190417T181902Z
LAST-MODIFIED:20190517T163705Z
UID:19712-1556964000-1556978400@www.downtownberkeley.com
SUMMARY:Western Pacific Bloody Mary Special
DESCRIPTION:Western Pacific Bloody Mary Special  \nSaturday and Sundays 10-2  \nWestern Pacific  \nWhat better way to spend you weekend than with a brunch at Western Pacific. Plus\, they have $5 bloody marys! See you there! \nMore info: 
URL:https://www.downtownberkeley.com/dtb-event/western-pacific-blood-mary-special-2019-05-04/
LOCATION:Western Pacific\, 2286 Shattuck Ave\, Berkeley\, CA\, 94704\, United States
CATEGORIES:Food and Drink
END:VEVENT
BEGIN:VEVENT
DTSTART;TZID=America/Denver:20190428T100000
DTEND;TZID=America/Denver:20190428T140000
DTSTAMP:20260425T044833
CREATED:20190417T181902Z
LAST-MODIFIED:20190517T163705Z
UID:19711-1556445600-1556460000@www.downtownberkeley.com
SUMMARY:Western Pacific Bloody Mary Special
DESCRIPTION:Western Pacific Bloody Mary Special  \nSaturday and Sundays 10-2  \nWestern Pacific  \nWhat better way to spend you weekend than with a brunch at Western Pacific. Plus\, they have $5 bloody marys! See you there! \nMore info: 
URL:https://www.downtownberkeley.com/dtb-event/western-pacific-blood-mary-special-2019-04-28/
LOCATION:Western Pacific\, 2286 Shattuck Ave\, Berkeley\, CA\, 94704\, United States
CATEGORIES:Food and Drink
END:VEVENT
BEGIN:VEVENT
DTSTART;TZID=America/Denver:20190427T100000
DTEND;TZID=America/Denver:20190427T140000
DTSTAMP:20260425T044833
CREATED:20190417T181902Z
LAST-MODIFIED:20190517T163705Z
UID:19710-1556359200-1556373600@www.downtownberkeley.com
SUMMARY:Western Pacific Bloody Mary Special
DESCRIPTION:Western Pacific Bloody Mary Special  \nSaturday and Sundays 10-2  \nWestern Pacific  \nWhat better way to spend you weekend than with a brunch at Western Pacific. Plus\, they have $5 bloody marys! See you there! \nMore info: 
URL:https://www.downtownberkeley.com/dtb-event/western-pacific-blood-mary-special-2019-04-27/
LOCATION:Western Pacific\, 2286 Shattuck Ave\, Berkeley\, CA\, 94704\, United States
CATEGORIES:Food and Drink
END:VEVENT
BEGIN:VEVENT
DTSTART;TZID=America/Denver:20190424T200000
DTEND;TZID=America/Denver:20190424T220000
DTSTAMP:20260425T044833
CREATED:20190213T223940Z
LAST-MODIFIED:20190213T223940Z
UID:18800-1556136000-1556143200@www.downtownberkeley.com
SUMMARY:Trivia Night at Triple Rock Brewing
DESCRIPTION:Trivia Night at Triple Rock Brewery \nEvery Wednesday from 8-10PM \nTriple Rock Brewery \nWe’re getting our nerd on with Geeks Who Drink Pub Quizzes! Join us every Wednesday starting at 8pm\, for two hours of pure trivia bliss. Grab a group\, grab a pitcher and come to the Richter Room for a ridiculously raucous good time. \nMore Info: 
URL:https://www.downtownberkeley.com/dtb-event/trivia-night-at-triple-rock-brewing-2019-04-24/
LOCATION:Triple Rock Brewery\, 1920 Shattuck Avenue\, Berkeley\, CA\, 94704\, United States
CATEGORIES:Food and Drink
END:VEVENT
BEGIN:VEVENT
DTSTART;TZID=America/Denver:20190421T100000
DTEND;TZID=America/Denver:20190421T170000
DTSTAMP:20260425T044833
CREATED:20190401T221856Z
LAST-MODIFIED:20190401T221856Z
UID:19512-1555840800-1555866000@www.downtownberkeley.com
SUMMARY:Earth Day Celebration
DESCRIPTION:
URL:https://www.downtownberkeley.com/dtb-event/earth-day-celebration/
LOCATION:David Brower Center\, 2150 Allston Way\, Berkeley\, CA\, 94704\, United States
CATEGORIES:Community Events,Food and Drink,Other
END:VEVENT
BEGIN:VEVENT
DTSTART;TZID=America/Denver:20190421T100000
DTEND;TZID=America/Denver:20190421T140000
DTSTAMP:20260425T044833
CREATED:20190417T181902Z
LAST-MODIFIED:20190517T163705Z
UID:19709-1555840800-1555855200@www.downtownberkeley.com
SUMMARY:Western Pacific Bloody Mary Special
DESCRIPTION:Western Pacific Bloody Mary Special  \nSaturday and Sundays 10-2  \nWestern Pacific  \nWhat better way to spend you weekend than with a brunch at Western Pacific. Plus\, they have $5 bloody marys! See you there! \nMore info: 
URL:https://www.downtownberkeley.com/dtb-event/western-pacific-blood-mary-special-2019-04-21/
LOCATION:Western Pacific\, 2286 Shattuck Ave\, Berkeley\, CA\, 94704\, United States
CATEGORIES:Food and Drink
END:VEVENT
BEGIN:VEVENT
DTSTART;TZID=America/Denver:20190420T100000
DTEND;TZID=America/Denver:20190420T140000
DTSTAMP:20260425T044833
CREATED:20190417T181902Z
LAST-MODIFIED:20190517T163705Z
UID:19705-1555754400-1555768800@www.downtownberkeley.com
SUMMARY:Western Pacific Bloody Mary Special
DESCRIPTION:Western Pacific Bloody Mary Special  \nSaturday and Sundays 10-2  \nWestern Pacific  \nWhat better way to spend you weekend than with a brunch at Western Pacific. Plus\, they have $5 bloody marys! See you there! \nMore info: 
URL:https://www.downtownberkeley.com/dtb-event/western-pacific-blood-mary-special/
LOCATION:Western Pacific\, 2286 Shattuck Ave\, Berkeley\, CA\, 94704\, United States
CATEGORIES:Food and Drink
END:VEVENT
BEGIN:VEVENT
DTSTART;TZID=America/Denver:20190417T200000
DTEND;TZID=America/Denver:20190417T220000
DTSTAMP:20260425T044833
CREATED:20190213T223940Z
LAST-MODIFIED:20190213T223940Z
UID:18799-1555531200-1555538400@www.downtownberkeley.com
SUMMARY:Trivia Night at Triple Rock Brewing
DESCRIPTION:Trivia Night at Triple Rock Brewery \nEvery Wednesday from 8-10PM \nTriple Rock Brewery \nWe’re getting our nerd on with Geeks Who Drink Pub Quizzes! Join us every Wednesday starting at 8pm\, for two hours of pure trivia bliss. Grab a group\, grab a pitcher and come to the Richter Room for a ridiculously raucous good time. \nMore Info: 
URL:https://www.downtownberkeley.com/dtb-event/trivia-night-at-triple-rock-brewing-2019-04-17/
LOCATION:Triple Rock Brewery\, 1920 Shattuck Avenue\, Berkeley\, CA\, 94704\, United States
CATEGORIES:Food and Drink
END:VEVENT
BEGIN:VEVENT
DTSTART;TZID=America/Denver:20190410T200000
DTEND;TZID=America/Denver:20190410T220000
DTSTAMP:20260425T044833
CREATED:20190213T223940Z
LAST-MODIFIED:20190213T223940Z
UID:18798-1554926400-1554933600@www.downtownberkeley.com
SUMMARY:Trivia Night at Triple Rock Brewing
DESCRIPTION:Trivia Night at Triple Rock Brewery \nEvery Wednesday from 8-10PM \nTriple Rock Brewery \nWe’re getting our nerd on with Geeks Who Drink Pub Quizzes! Join us every Wednesday starting at 8pm\, for two hours of pure trivia bliss. Grab a group\, grab a pitcher and come to the Richter Room for a ridiculously raucous good time. \nMore Info: 
URL:https://www.downtownberkeley.com/dtb-event/trivia-night-at-triple-rock-brewing-2019-04-10/
LOCATION:Triple Rock Brewery\, 1920 Shattuck Avenue\, Berkeley\, CA\, 94704\, United States
CATEGORIES:Food and Drink
END:VEVENT
BEGIN:VEVENT
DTSTART;TZID=America/Denver:20190409T120000
DTEND;TZID=America/Denver:20190409T200000
DTSTAMP:20260425T044833
CREATED:20190313T172850Z
LAST-MODIFIED:20190313T172850Z
UID:19435-1554811200-1554840000@www.downtownberkeley.com
SUMMARY:Free Cone Day at Ben and Jerry's!
DESCRIPTION:Free Cone Day at Ben and Jerry’s! \n12-8PM\, Tue. April 9th \nBen and Jerry’s \nFREE \nFree Cone Day is being celebrated in Scoop Shops around the world\, & we’ll be giving away free ice cream at a host of locations between 12pm and 8pm!
URL:https://www.downtownberkeley.com/dtb-event/free-cone-day-at-ben-and-jerrys/
LOCATION:Ben and Jerry’s Berkeley\, 2130 Center St Suite 102\, Berkeley\, CA 94704\, Berkeley\, CA\, 94704\, United States
CATEGORIES:Food and Drink
END:VEVENT
BEGIN:VEVENT
DTSTART;TZID=America/Denver:20190403T200000
DTEND;TZID=America/Denver:20190403T220000
DTSTAMP:20260425T044833
CREATED:20190213T223940Z
LAST-MODIFIED:20190213T223940Z
UID:18797-1554321600-1554328800@www.downtownberkeley.com
SUMMARY:Trivia Night at Triple Rock Brewing
DESCRIPTION:Trivia Night at Triple Rock Brewery \nEvery Wednesday from 8-10PM \nTriple Rock Brewery \nWe’re getting our nerd on with Geeks Who Drink Pub Quizzes! Join us every Wednesday starting at 8pm\, for two hours of pure trivia bliss. Grab a group\, grab a pitcher and come to the Richter Room for a ridiculously raucous good time. \nMore Info: 
URL:https://www.downtownberkeley.com/dtb-event/trivia-night-at-triple-rock-brewing-2019-04-03/
LOCATION:Triple Rock Brewery\, 1920 Shattuck Avenue\, Berkeley\, CA\, 94704\, United States
CATEGORIES:Food and Drink
END:VEVENT
BEGIN:VEVENT
DTSTART;TZID=America/Denver:20190328T183000
DTEND;TZID=America/Denver:20190328T213000
DTSTAMP:20260425T044833
CREATED:20190308T183341Z
LAST-MODIFIED:20190308T183341Z
UID:19366-1553797800-1553808600@www.downtownberkeley.com
SUMMARY:David Suro of Siembra Spirits at Comal
DESCRIPTION:  \n \nDavid Suro of Siembra Spirits at Comal \n6:30PM\, Thur. March 28th \nComal \n  \nComal is proud to welcome David Suro of Siembra Spiritsfor a special collaboration dinner showcasing three of Siembra’s handmade agave spirits as well as one-of-a-kind offerings from Pedro Jimenez’s Mezonte brand and Mónica Leyva’s Pajarote brand. This diverse collection of spirits\, all imported by Suro Importers\, will be enjoyed over a menu of Oaxaca-inspired dishes by Comal’s executive chef Matt Gandin. Dinner guests will have the opportunity to engage in conversation with David\, Pedro\, and Mónica and learn firsthand about their experiences bringing these traditional Mexican spirits to market. \nMore info: 
URL:https://www.downtownberkeley.com/dtb-event/david-suro-of-siembra-spirits-at-comal/
LOCATION:Comal\, 2020 Shattuck Avenue\, Berkeley\, CA\, 94704\, United States
CATEGORIES:Food and Drink
END:VEVENT
BEGIN:VEVENT
DTSTART;TZID=America/Denver:20190327T200000
DTEND;TZID=America/Denver:20190327T220000
DTSTAMP:20260425T044833
CREATED:20190213T223940Z
LAST-MODIFIED:20190213T223940Z
UID:18796-1553716800-1553724000@www.downtownberkeley.com
SUMMARY:Trivia Night at Triple Rock Brewing
DESCRIPTION:Trivia Night at Triple Rock Brewery \nEvery Wednesday from 8-10PM \nTriple Rock Brewery \nWe’re getting our nerd on with Geeks Who Drink Pub Quizzes! Join us every Wednesday starting at 8pm\, for two hours of pure trivia bliss. Grab a group\, grab a pitcher and come to the Richter Room for a ridiculously raucous good time. \nMore Info: 
URL:https://www.downtownberkeley.com/dtb-event/trivia-night-at-triple-rock-brewing-2019-03-27/
LOCATION:Triple Rock Brewery\, 1920 Shattuck Avenue\, Berkeley\, CA\, 94704\, United States
CATEGORIES:Food and Drink
END:VEVENT
BEGIN:VEVENT
DTSTART;TZID=America/Denver:20190320T200000
DTEND;TZID=America/Denver:20190320T220000
DTSTAMP:20260425T044833
CREATED:20190213T223940Z
LAST-MODIFIED:20190213T223940Z
UID:18795-1553112000-1553119200@www.downtownberkeley.com
SUMMARY:Trivia Night at Triple Rock Brewing
DESCRIPTION:Trivia Night at Triple Rock Brewery \nEvery Wednesday from 8-10PM \nTriple Rock Brewery \nWe’re getting our nerd on with Geeks Who Drink Pub Quizzes! Join us every Wednesday starting at 8pm\, for two hours of pure trivia bliss. Grab a group\, grab a pitcher and come to the Richter Room for a ridiculously raucous good time. \nMore Info: 
URL:https://www.downtownberkeley.com/dtb-event/trivia-night-at-triple-rock-brewing-2019-03-20/
LOCATION:Triple Rock Brewery\, 1920 Shattuck Avenue\, Berkeley\, CA\, 94704\, United States
CATEGORIES:Food and Drink
END:VEVENT
BEGIN:VEVENT
DTSTART;TZID=America/Denver:20190313T200000
DTEND;TZID=America/Denver:20190313T220000
DTSTAMP:20260425T044833
CREATED:20190213T223940Z
LAST-MODIFIED:20190213T223940Z
UID:18794-1552507200-1552514400@www.downtownberkeley.com
SUMMARY:Trivia Night at Triple Rock Brewing
DESCRIPTION:Trivia Night at Triple Rock Brewery \nEvery Wednesday from 8-10PM \nTriple Rock Brewery \nWe’re getting our nerd on with Geeks Who Drink Pub Quizzes! Join us every Wednesday starting at 8pm\, for two hours of pure trivia bliss. Grab a group\, grab a pitcher and come to the Richter Room for a ridiculously raucous good time. \nMore Info: 
URL:https://www.downtownberkeley.com/dtb-event/trivia-night-at-triple-rock-brewing-2019-03-13/
LOCATION:Triple Rock Brewery\, 1920 Shattuck Avenue\, Berkeley\, CA\, 94704\, United States
CATEGORIES:Food and Drink
END:VEVENT
BEGIN:VEVENT
DTSTART;TZID=America/Denver:20190310T110000
DTEND;TZID=America/Denver:20190310T140000
DTSTAMP:20260425T044833
CREATED:20190110T205520Z
LAST-MODIFIED:20190110T205520Z
UID:18380-1552215600-1552226400@www.downtownberkeley.com
SUMMARY:Walking BRUNCH Tour in Downtown Berkeley
DESCRIPTION:Walking BRUNCH Tour of Downtown BerkeleyTours on Sundays\, 11am-2pmBook Tour Now! $115 per person – Use code BRUNCH_20 at checkout for $20 off for you and a friend! (+ $2 booking fee) \nWho loves mimosas? We do! Food-loving guests will nom nom nom their way through a half-dozen hearty dishes\, cocktails\, and of course\, coffee\, that signify the best of everyone’s favorite meal between between breakfast and lunch. In addition to feeding your belly\, this tour will satisfy your sense of place and history with skilled resident guides offering behind-the-scenes access to local chefs and restaurateurs. \nThis fantastic exploration of Downtown Berkeley will showcase the diversity of the explosive neighborhood food scene…A sample line-up of participating Downtown Berkeley eateries may include freshly-brewed chicory coffee and authentic beignets from Angeline’s Kitchen\, the story behind avocado toast from Babette Café\, savory shakshuka and cocktails from Revival\, and breakfast pizza and mimosas from Gather. \nBook Tour Now! \n\n\n\n\n\n\n\n\n\n\n \nAngeline’s Kitchen\nServing gumbo\, beignets & jambalaya\, this casual eatery brings New Orleans flavors to Berkeley. \n\n\n\n\n\n\n\n\n \nRevival Bar + Kitchen\nCalifornian cuisine with a local/seasonal bent pairs up with craft cocktails in an airy atmosphere. \n\n\n\n\n\n\n\n\n \nGather\nLocavores come for creative Californian fare made with seasonal ingredients & West Coast wines
URL:https://www.downtownberkeley.com/dtb-event/walking-brunch-tour-of-downtown-berkeley-2019-03-10-2/
LOCATION:Berkeley\, CA\, 94704\, United States
CATEGORIES:Food and Drink
END:VEVENT
BEGIN:VEVENT
DTSTART;TZID=America/Denver:20190306T200000
DTEND;TZID=America/Denver:20190306T220000
DTSTAMP:20260425T044833
CREATED:20190213T223940Z
LAST-MODIFIED:20190213T223940Z
UID:18793-1551902400-1551909600@www.downtownberkeley.com
SUMMARY:Trivia Night at Triple Rock Brewing
DESCRIPTION:Trivia Night at Triple Rock Brewery \nEvery Wednesday from 8-10PM \nTriple Rock Brewery \nWe’re getting our nerd on with Geeks Who Drink Pub Quizzes! Join us every Wednesday starting at 8pm\, for two hours of pure trivia bliss. Grab a group\, grab a pitcher and come to the Richter Room for a ridiculously raucous good time. \nMore Info: 
URL:https://www.downtownberkeley.com/dtb-event/trivia-night-at-triple-rock-brewing-2019-03-06/
LOCATION:Triple Rock Brewery\, 1920 Shattuck Avenue\, Berkeley\, CA\, 94704\, United States
CATEGORIES:Food and Drink
END:VEVENT
BEGIN:VEVENT
DTSTART;TZID=America/Denver:20190303T110000
DTEND;TZID=America/Denver:20190303T140000
DTSTAMP:20260425T044833
CREATED:20190110T205520Z
LAST-MODIFIED:20190110T205520Z
UID:18379-1551610800-1551621600@www.downtownberkeley.com
SUMMARY:Walking BRUNCH Tour in Downtown Berkeley
DESCRIPTION:Walking BRUNCH Tour of Downtown BerkeleyTours on Sundays\, 11am-2pmBook Tour Now! $115 per person – Use code BRUNCH_20 at checkout for $20 off for you and a friend! (+ $2 booking fee) \nWho loves mimosas? We do! Food-loving guests will nom nom nom their way through a half-dozen hearty dishes\, cocktails\, and of course\, coffee\, that signify the best of everyone’s favorite meal between between breakfast and lunch. In addition to feeding your belly\, this tour will satisfy your sense of place and history with skilled resident guides offering behind-the-scenes access to local chefs and restaurateurs. \nThis fantastic exploration of Downtown Berkeley will showcase the diversity of the explosive neighborhood food scene…A sample line-up of participating Downtown Berkeley eateries may include freshly-brewed chicory coffee and authentic beignets from Angeline’s Kitchen\, the story behind avocado toast from Babette Café\, savory shakshuka and cocktails from Revival\, and breakfast pizza and mimosas from Gather. \nBook Tour Now! \n\n\n\n\n\n\n\n\n\n\n \nAngeline’s Kitchen\nServing gumbo\, beignets & jambalaya\, this casual eatery brings New Orleans flavors to Berkeley. \n\n\n\n\n\n\n\n\n \nRevival Bar + Kitchen\nCalifornian cuisine with a local/seasonal bent pairs up with craft cocktails in an airy atmosphere. \n\n\n\n\n\n\n\n\n \nGather\nLocavores come for creative Californian fare made with seasonal ingredients & West Coast wines
URL:https://www.downtownberkeley.com/dtb-event/walking-brunch-tour-of-downtown-berkeley-2019-03-03-2/
LOCATION:Berkeley\, CA\, 94704\, United States
CATEGORIES:Food and Drink
END:VEVENT
BEGIN:VEVENT
DTSTART;TZID=America/Denver:20190227T200000
DTEND;TZID=America/Denver:20190227T220000
DTSTAMP:20260425T044833
CREATED:20190213T223940Z
LAST-MODIFIED:20190213T223940Z
UID:18792-1551297600-1551304800@www.downtownberkeley.com
SUMMARY:Trivia Night at Triple Rock Brewing
DESCRIPTION:Trivia Night at Triple Rock Brewery \nEvery Wednesday from 8-10PM \nTriple Rock Brewery \nWe’re getting our nerd on with Geeks Who Drink Pub Quizzes! Join us every Wednesday starting at 8pm\, for two hours of pure trivia bliss. Grab a group\, grab a pitcher and come to the Richter Room for a ridiculously raucous good time. \nMore Info: 
URL:https://www.downtownberkeley.com/dtb-event/trivia-night-at-triple-rock-brewing-2019-02-27/
LOCATION:Triple Rock Brewery\, 1920 Shattuck Avenue\, Berkeley\, CA\, 94704\, United States
CATEGORIES:Food and Drink
END:VEVENT
BEGIN:VEVENT
DTSTART;TZID=America/Denver:20190224T110000
DTEND;TZID=America/Denver:20190224T140000
DTSTAMP:20260425T044833
CREATED:20190110T205520Z
LAST-MODIFIED:20190110T205520Z
UID:18378-1551006000-1551016800@www.downtownberkeley.com
SUMMARY:Walking BRUNCH Tour in Downtown Berkeley
DESCRIPTION:Walking BRUNCH Tour of Downtown BerkeleyTours on Sundays\, 11am-2pmBook Tour Now! $115 per person – Use code BRUNCH_20 at checkout for $20 off for you and a friend! (+ $2 booking fee) \nWho loves mimosas? We do! Food-loving guests will nom nom nom their way through a half-dozen hearty dishes\, cocktails\, and of course\, coffee\, that signify the best of everyone’s favorite meal between between breakfast and lunch. In addition to feeding your belly\, this tour will satisfy your sense of place and history with skilled resident guides offering behind-the-scenes access to local chefs and restaurateurs. \nThis fantastic exploration of Downtown Berkeley will showcase the diversity of the explosive neighborhood food scene…A sample line-up of participating Downtown Berkeley eateries may include freshly-brewed chicory coffee and authentic beignets from Angeline’s Kitchen\, the story behind avocado toast from Babette Café\, savory shakshuka and cocktails from Revival\, and breakfast pizza and mimosas from Gather. \nBook Tour Now! \n\n\n\n\n\n\n\n\n\n\n \nAngeline’s Kitchen\nServing gumbo\, beignets & jambalaya\, this casual eatery brings New Orleans flavors to Berkeley. \n\n\n\n\n\n\n\n\n \nRevival Bar + Kitchen\nCalifornian cuisine with a local/seasonal bent pairs up with craft cocktails in an airy atmosphere. \n\n\n\n\n\n\n\n\n \nGather\nLocavores come for creative Californian fare made with seasonal ingredients & West Coast wines
URL:https://www.downtownberkeley.com/dtb-event/walking-brunch-tour-of-downtown-berkeley-2019-02-24-2/
LOCATION:Berkeley\, CA\, 94704\, United States
CATEGORIES:Food and Drink
END:VEVENT
BEGIN:VEVENT
DTSTART;TZID=America/Denver:20190220T200000
DTEND;TZID=America/Denver:20190220T220000
DTSTAMP:20260425T044833
CREATED:20190213T223940Z
LAST-MODIFIED:20190213T223940Z
UID:18791-1550692800-1550700000@www.downtownberkeley.com
SUMMARY:Trivia Night at Triple Rock Brewing
DESCRIPTION:Trivia Night at Triple Rock Brewery \nEvery Wednesday from 8-10PM \nTriple Rock Brewery \nWe’re getting our nerd on with Geeks Who Drink Pub Quizzes! Join us every Wednesday starting at 8pm\, for two hours of pure trivia bliss. Grab a group\, grab a pitcher and come to the Richter Room for a ridiculously raucous good time. \nMore Info: 
URL:https://www.downtownberkeley.com/dtb-event/trivia-night-at-triple-rock-brewing-2019-02-20/
LOCATION:Triple Rock Brewery\, 1920 Shattuck Avenue\, Berkeley\, CA\, 94704\, United States
CATEGORIES:Food and Drink
END:VEVENT
BEGIN:VEVENT
DTSTART;TZID=America/Denver:20190217T110000
DTEND;TZID=America/Denver:20190217T140000
DTSTAMP:20260425T044833
CREATED:20190110T205520Z
LAST-MODIFIED:20190110T205520Z
UID:18377-1550401200-1550412000@www.downtownberkeley.com
SUMMARY:Walking BRUNCH Tour in Downtown Berkeley
DESCRIPTION:Walking BRUNCH Tour of Downtown BerkeleyTours on Sundays\, 11am-2pmBook Tour Now! $115 per person – Use code BRUNCH_20 at checkout for $20 off for you and a friend! (+ $2 booking fee) \nWho loves mimosas? We do! Food-loving guests will nom nom nom their way through a half-dozen hearty dishes\, cocktails\, and of course\, coffee\, that signify the best of everyone’s favorite meal between between breakfast and lunch. In addition to feeding your belly\, this tour will satisfy your sense of place and history with skilled resident guides offering behind-the-scenes access to local chefs and restaurateurs. \nThis fantastic exploration of Downtown Berkeley will showcase the diversity of the explosive neighborhood food scene…A sample line-up of participating Downtown Berkeley eateries may include freshly-brewed chicory coffee and authentic beignets from Angeline’s Kitchen\, the story behind avocado toast from Babette Café\, savory shakshuka and cocktails from Revival\, and breakfast pizza and mimosas from Gather. \nBook Tour Now! \n\n\n\n\n\n\n\n\n\n\n \nAngeline’s Kitchen\nServing gumbo\, beignets & jambalaya\, this casual eatery brings New Orleans flavors to Berkeley. \n\n\n\n\n\n\n\n\n \nRevival Bar + Kitchen\nCalifornian cuisine with a local/seasonal bent pairs up with craft cocktails in an airy atmosphere. \n\n\n\n\n\n\n\n\n \nGather\nLocavores come for creative Californian fare made with seasonal ingredients & West Coast wines
URL:https://www.downtownberkeley.com/dtb-event/walking-brunch-tour-of-downtown-berkeley-2019-02-17-2/
LOCATION:Berkeley\, CA\, 94704\, United States
CATEGORIES:Food and Drink
END:VEVENT
BEGIN:VEVENT
DTSTART;TZID=America/Denver:20190213T200000
DTEND;TZID=America/Denver:20190213T220000
DTSTAMP:20260425T044833
CREATED:20190213T223940Z
LAST-MODIFIED:20190213T223940Z
UID:18788-1550088000-1550095200@www.downtownberkeley.com
SUMMARY:Trivia Night at Triple Rock Brewing
DESCRIPTION:Trivia Night at Triple Rock Brewery \nEvery Wednesday from 8-10PM \nTriple Rock Brewery \nWe’re getting our nerd on with Geeks Who Drink Pub Quizzes! Join us every Wednesday starting at 8pm\, for two hours of pure trivia bliss. Grab a group\, grab a pitcher and come to the Richter Room for a ridiculously raucous good time. \nMore Info: 
URL:https://www.downtownberkeley.com/dtb-event/trivia-night-at-triple-rock-brewing/
LOCATION:Triple Rock Brewery\, 1920 Shattuck Avenue\, Berkeley\, CA\, 94704\, United States
CATEGORIES:Food and Drink
END:VEVENT
END:VCALENDAR