BEGIN:VCALENDAR
VERSION:2.0
PRODID:-//DOWNTOWN BERKELEY - ECPv6.15.17.1//NONSGML v1.0//EN
CALSCALE:GREGORIAN
METHOD:PUBLISH
X-ORIGINAL-URL:https://www.downtownberkeley.com
X-WR-CALDESC:Events for DOWNTOWN BERKELEY
REFRESH-INTERVAL;VALUE=DURATION:PT1H
X-Robots-Tag:noindex
X-PUBLISHED-TTL:PT1H
BEGIN:VTIMEZONE
TZID:America/Denver
BEGIN:DAYLIGHT
TZOFFSETFROM:-0700
TZOFFSETTO:-0600
TZNAME:MDT
DTSTART:20180311T090000
END:DAYLIGHT
BEGIN:STANDARD
TZOFFSETFROM:-0600
TZOFFSETTO:-0700
TZNAME:MST
DTSTART:20181104T080000
END:STANDARD
BEGIN:DAYLIGHT
TZOFFSETFROM:-0700
TZOFFSETTO:-0600
TZNAME:MDT
DTSTART:20190310T090000
END:DAYLIGHT
BEGIN:STANDARD
TZOFFSETFROM:-0600
TZOFFSETTO:-0700
TZNAME:MST
DTSTART:20191103T080000
END:STANDARD
BEGIN:DAYLIGHT
TZOFFSETFROM:-0700
TZOFFSETTO:-0600
TZNAME:MDT
DTSTART:20200308T090000
END:DAYLIGHT
BEGIN:STANDARD
TZOFFSETFROM:-0600
TZOFFSETTO:-0700
TZNAME:MST
DTSTART:20201101T080000
END:STANDARD
END:VTIMEZONE
BEGIN:VEVENT
DTSTART;TZID=America/Denver:20190727T190000
DTEND;TZID=America/Denver:20190727T220000
DTSTAMP:20260419T074832
CREATED:20190722T220132Z
LAST-MODIFIED:20190722T220132Z
UID:20593-1564254000-1564264800@www.downtownberkeley.com
SUMMARY:Freight & Salvage Presents: The Marco Diaz Quartet Insight CD Release Concert
DESCRIPTION:Marco Diaz Quartet\n\nThe Marco Diaz Quartet combines the high energy of a Latin Big Band with the intimate delivery of a small Jazz ensemble. They combine jazz harmonies with the Afro-Caribbean rhythms in their original compositions and original arrangements of both Latin American and American Song Book classics. They are sure to make you feel the passion in their music.\n\nFor more information click here
URL:https://www.downtownberkeley.com/dtb-event/freight-salvage-presents-the-marco-diaz-quartet-insight-cd-release-concert/
LOCATION:Freight & Salvage\, 2020 Addison Street\, Berkeley\, CA\, 94704\, United States
CATEGORIES:Community Events,Food and Drink,Music
ATTACH;FMTTYPE=image/png:https://www.downtownberkeley.com/wp-content/uploads/2019/07/image-12.png
END:VEVENT
BEGIN:VEVENT
DTSTART;TZID=America/Denver:20190724T190000
DTEND;TZID=America/Denver:20190724T220000
DTSTAMP:20260419T074832
CREATED:20190724T202159Z
LAST-MODIFIED:20190724T202159Z
UID:21072-1563994800-1564005600@www.downtownberkeley.com
SUMMARY:Open Mic at the Freight and Salvage - 8/21
DESCRIPTION:The longest running open stage in the Bay Area now has free admission! Our Open Mic has brought in some of our brightest performers\, including Shawn Colvin\, Dana Carvey\, Alvin Youngblood Hart\, and Patrick Landeza. The audience is friendly – and people actually listen! So come on down and join the fun. All performers welcome. \nFor more information click here \n 
URL:https://www.downtownberkeley.com/dtb-event/open-mic-at-the-freight-and-salvage-8-21/
LOCATION:Freight & Salvage\, 2020 Addison Street\, Berkeley\, CA\, 94704\, United States
CATEGORIES:Community Events,Food and Drink,Music,Other,Summer of Love
ATTACH;FMTTYPE=image/png:https://www.downtownberkeley.com/wp-content/uploads/2019/07/image-17.png
END:VEVENT
BEGIN:VEVENT
DTSTART;TZID=America/Denver:20190723T180000
DTEND;TZID=America/Denver:20190723T210000
DTSTAMP:20260419T074832
CREATED:20190723T230732Z
LAST-MODIFIED:20190723T230732Z
UID:20626-1563904800-1563915600@www.downtownberkeley.com
SUMMARY:Bobby G's Free Live Jazz and Stand-Up Comedy (6-9pm)
DESCRIPTION:
URL:https://www.downtownberkeley.com/dtb-event/bobby-gs-free-live-jazz-and-stand-up-comedy-6-9pm/
LOCATION:Bobby G’s Pizzeria\, 2072 University Avenue\, Berkeley\, CA\, 94704\, United States
CATEGORIES:Community Events,Food and Drink,Music,Other,Summer of Love
ATTACH;FMTTYPE=image/png:https://www.downtownberkeley.com/wp-content/uploads/2019/06/1557356154747.png
END:VEVENT
BEGIN:VEVENT
DTSTART;TZID=America/Denver:20190714T110000
DTEND;TZID=America/Denver:20190714T180000
DTSTAMP:20260419T074832
CREATED:20190712T174332Z
LAST-MODIFIED:20190712T180140Z
UID:20515-1563102000-1563127200@www.downtownberkeley.com
SUMMARY:Sunday Streets Downtown Berkeley
DESCRIPTION:On July 14th from 11am – 6pm Downtown Berkeley will be hosting the 7th Annual Sunday Streets in Downtown Berkeley. The event will feature the 2nd Annual Pet Parade\, a Family Bastille Day Celebration as well as Downtown Berkeley’s celebration of free live music; Cornerfest hosted by Cornerstone Craft Beer & Live Music! \nMore info here!
URL:https://www.downtownberkeley.com/dtb-event/sunday-streets-downtown-berkeley/
LOCATION:Shattuck Ave. Btw University & Durant\, Berkeley\, CA\, 94704\, United States
CATEGORIES:Food and Drink,Music,Outdoor Event,Sports Activities,Summer of Love,Visual Arts
ATTACH;FMTTYPE=image/png:https://www.downtownberkeley.com/wp-content/uploads/2019/07/image001.png
ORGANIZER;CN="Downtown Berkeley Association":MAILTO:info@downtownberkeley.com
END:VEVENT
BEGIN:VEVENT
DTSTART;TZID=America/Denver:20190710T150000
DTEND;TZID=America/Denver:20190710T230000
DTSTAMP:20260419T074832
CREATED:20190708T180951Z
LAST-MODIFIED:20190708T180951Z
UID:20453-1562770800-1562799600@www.downtownberkeley.com
SUMMARY:$3 Brewers Pint Every Wednesday at Pacific Standard Tap room
DESCRIPTION:Swing by Pacific Standard every Wednesday to sip on their $3 Brewers Pint! Available from open to close\, ask your brewer what the day’s $3 pint is! \nFor more information click here
URL:https://www.downtownberkeley.com/dtb-event/3-brewers-pint-every-wednesday-at-pacific-standard-tap-room/
LOCATION:Pacific Standard Tap Room\, 2055 Center St.\, Suite D\, Berkeley\, CA\, 94704\, United States
CATEGORIES:Community Events,Food and Drink
ATTACH;FMTTYPE=image/png:https://www.downtownberkeley.com/wp-content/uploads/2019/07/image-4.png
END:VEVENT
BEGIN:VEVENT
DTSTART;TZID=America/Denver:20190706T110000
DTEND;TZID=America/Denver:20190706T170000
DTSTAMP:20260419T074832
CREATED:20190701T210626Z
LAST-MODIFIED:20190701T210734Z
UID:20406-1562410800-1562432400@www.downtownberkeley.com
SUMMARY:La Pena Presents: Frida Kahlo’s Birthday Tianguis: Celebrating Strong Women Artists & Artisans
DESCRIPTION:Come celebrate Frida Kahlo’s 112th birthday by supporting strong women artists & artisans at Frida’s Birthday Tianguis at La Peña! \nA “tianguis” is a traditional open air market and comes from the Nahuatl language of the Aztecs\, which means “market”. \nThere will be over 40 vendors selling handmade crafts\, art\, imported goods from Mexico\, Guatemala and beyond. \nFor more information.
URL:https://www.downtownberkeley.com/dtb-event/la-pena-presents-frida-kahlos-birthday-tianguis-celebrating-strong-women-artists-artisans/
LOCATION:La Pena\, 3105 Shattuck Ave\, Berkeley\, CA\, 94704\, United States
CATEGORIES:Community Events,Food and Drink,Outdoor Event
ATTACH;FMTTYPE=image/png:https://www.downtownberkeley.com/wp-content/uploads/2019/07/image.png
END:VEVENT
BEGIN:VEVENT
DTSTART;TZID=America/Denver:20190704T160000
DTEND;TZID=America/Denver:20190704T190000
DTSTAMP:20260419T074832
CREATED:20190701T212619Z
LAST-MODIFIED:20190701T212619Z
UID:20415-1562256000-1562266800@www.downtownberkeley.com
SUMMARY:BAMPFA Presents: Five Tables of Collaboration
DESCRIPTION:In art—as in many things—going it alone has its advantages\, but collaboration\, whether fraught or harmonious\, gets amazing things done. Works on view this session: a dozen Qing dynasty artists (including Gong Xian and Hongren) and an equal number of calligraphers combine in a stellar album of Chinese landscapes; Hiroshige and Hokusai get credit for wonderful ukiyo-e prints\, but unsung draftsmen\, carvers\, and printers do most of the heavy lifting; the collectives Ant Farm and T. R. Uthco go to Dallas to reenact history; Federico Castellón and Peter Paone alternate letters in their 1970 Erotic Alphabet; Yoko Ono and John Lennon partner for Fluxus fun in photographic projects; and more! \nFor more information. \n 
URL:https://www.downtownberkeley.com/dtb-event/bampfa-presents-five-tables-of-collaboration/
LOCATION:BAMPFA\, 2155 Center Street\, Berkeley\, CA\, 94720\, United States
CATEGORIES:Community Events,Food and Drink,Movies,Visual Arts
ATTACH;FMTTYPE=image/jpeg:https://www.downtownberkeley.com/wp-content/uploads/2019/07/Event_Five-Tables-of-Collaboration_Untitled-Everson-Catalogue-Box_2019-08-1_001_1200.jpg
END:VEVENT
BEGIN:VEVENT
DTSTART;TZID=America/Denver:20190630T100000
DTEND;TZID=America/Denver:20190630T140000
DTSTAMP:20260419T074832
CREATED:20190417T181902Z
LAST-MODIFIED:20190517T163729Z
UID:19729-1561888800-1561903200@www.downtownberkeley.com
SUMMARY:Western Pacific Bloody Mary Special
DESCRIPTION:Western Pacific Bloody Mary Special  \nSaturday and Sundays 10-2  \nWestern Pacific  \nWhat better way to spend you weekend than with a brunch at Western Pacific. Plus\, they have $5 bloody marys! See you there! \nMore info: 
URL:https://www.downtownberkeley.com/dtb-event/western-pacific-blood-mary-special-2019-06-30/
LOCATION:Western Pacific\, 2286 Shattuck Ave\, Berkeley\, CA\, 94704\, United States
CATEGORIES:Food and Drink
END:VEVENT
BEGIN:VEVENT
DTSTART;TZID=America/Denver:20190629T100000
DTEND;TZID=America/Denver:20190629T140000
DTSTAMP:20260419T074832
CREATED:20190417T181902Z
LAST-MODIFIED:20190517T163727Z
UID:19728-1561802400-1561816800@www.downtownberkeley.com
SUMMARY:Western Pacific Bloody Mary Special
DESCRIPTION:Western Pacific Bloody Mary Special  \nSaturday and Sundays 10-2  \nWestern Pacific  \nWhat better way to spend you weekend than with a brunch at Western Pacific. Plus\, they have $5 bloody marys! See you there! \nMore info: 
URL:https://www.downtownberkeley.com/dtb-event/western-pacific-blood-mary-special-2019-06-29/
LOCATION:Western Pacific\, 2286 Shattuck Ave\, Berkeley\, CA\, 94704\, United States
CATEGORIES:Food and Drink
END:VEVENT
BEGIN:VEVENT
DTSTART;TZID=America/Denver:20190628T000000
DTEND;TZID=America/Denver:20190628T150000
DTSTAMP:20260419T074832
CREATED:20190626T174709Z
LAST-MODIFIED:20190626T174709Z
UID:20303-1561680000-1561734000@www.downtownberkeley.com
SUMMARY:Berkeleyside Presents: Women's World Cup 2019 France v. United States
DESCRIPTION:Bobby G’s will be playing the Women’s World Cup France v. US match this Friday\, 6/28 at noon. Come help us root for our ladies\, and check out our beer and pizza menu\, featuring lunch specials until 2pm! \nFor more Information. \n 
URL:https://www.downtownberkeley.com/dtb-event/berkeleyside-presents-womens-world-cup-2019-france-v-united-states/
LOCATION:Bobby G’s Pizzeria\, 2072 University Avenue\, Berkeley\, CA\, 94704\, United States
CATEGORIES:Community Events,Food and Drink
ATTACH;FMTTYPE=image/png:https://www.downtownberkeley.com/wp-content/uploads/2019/06/1557356154747.png
END:VEVENT
BEGIN:VEVENT
DTSTART;TZID=America/Denver:20190623T100000
DTEND;TZID=America/Denver:20190623T140000
DTSTAMP:20260419T074832
CREATED:20190417T181902Z
LAST-MODIFIED:20190517T163727Z
UID:19727-1561284000-1561298400@www.downtownberkeley.com
SUMMARY:Western Pacific Bloody Mary Special
DESCRIPTION:Western Pacific Bloody Mary Special  \nSaturday and Sundays 10-2  \nWestern Pacific  \nWhat better way to spend you weekend than with a brunch at Western Pacific. Plus\, they have $5 bloody marys! See you there! \nMore info: 
URL:https://www.downtownberkeley.com/dtb-event/western-pacific-blood-mary-special-2019-06-23/
LOCATION:Western Pacific\, 2286 Shattuck Ave\, Berkeley\, CA\, 94704\, United States
CATEGORIES:Food and Drink
END:VEVENT
BEGIN:VEVENT
DTSTART;TZID=America/Denver:20190622T100000
DTEND;TZID=America/Denver:20190622T140000
DTSTAMP:20260419T074832
CREATED:20190417T181902Z
LAST-MODIFIED:20190517T163727Z
UID:19726-1561197600-1561212000@www.downtownberkeley.com
SUMMARY:Western Pacific Bloody Mary Special
DESCRIPTION:Western Pacific Bloody Mary Special  \nSaturday and Sundays 10-2  \nWestern Pacific  \nWhat better way to spend you weekend than with a brunch at Western Pacific. Plus\, they have $5 bloody marys! See you there! \nMore info: 
URL:https://www.downtownberkeley.com/dtb-event/western-pacific-blood-mary-special-2019-06-22/
LOCATION:Western Pacific\, 2286 Shattuck Ave\, Berkeley\, CA\, 94704\, United States
CATEGORIES:Food and Drink
END:VEVENT
BEGIN:VEVENT
DTSTART;TZID=America/Denver:20190619T200000
DTEND;TZID=America/Denver:20190619T220000
DTSTAMP:20260419T074832
CREATED:20190619T200655Z
LAST-MODIFIED:20190619T200655Z
UID:20262-1560974400-1560981600@www.downtownberkeley.com
SUMMARY:TRIVIA NIGHT AT T-ROCK BREWING
DESCRIPTION:We’re getting our nerd on with Geeks Who Drink Pub Quizzes! Join us every Wednesday starting at 8 pm\, for two hours of pure trivia bliss. Grab a group\, grab a pitcher and come to the Richter Room for a ridiculously raucous good time.\n\nFor more Info.
URL:https://www.downtownberkeley.com/dtb-event/trivia-night-at-t-rock-brewing/
LOCATION:Triple Rock Brewery\, 1920 Shattuck Avenue\, Berkeley\, CA\, 94704\, United States
CATEGORIES:Community Events,Food and Drink
ATTACH;FMTTYPE=image/png:https://www.downtownberkeley.com/wp-content/uploads/2019/06/Trivia_Web.png
END:VEVENT
BEGIN:VEVENT
DTSTART;TZID=America/Denver:20190616T100000
DTEND;TZID=America/Denver:20190616T140000
DTSTAMP:20260419T074832
CREATED:20190417T181902Z
LAST-MODIFIED:20190517T163727Z
UID:19725-1560679200-1560693600@www.downtownberkeley.com
SUMMARY:Western Pacific Bloody Mary Special
DESCRIPTION:Western Pacific Bloody Mary Special  \nSaturday and Sundays 10-2  \nWestern Pacific  \nWhat better way to spend you weekend than with a brunch at Western Pacific. Plus\, they have $5 bloody marys! See you there! \nMore info: 
URL:https://www.downtownberkeley.com/dtb-event/western-pacific-blood-mary-special-2019-06-16/
LOCATION:Western Pacific\, 2286 Shattuck Ave\, Berkeley\, CA\, 94704\, United States
CATEGORIES:Food and Drink
END:VEVENT
BEGIN:VEVENT
DTSTART;TZID=America/Denver:20190615T100000
DTEND;TZID=America/Denver:20190615T140000
DTSTAMP:20260419T074832
CREATED:20190417T181902Z
LAST-MODIFIED:20190517T163727Z
UID:19724-1560592800-1560607200@www.downtownberkeley.com
SUMMARY:Western Pacific Bloody Mary Special
DESCRIPTION:Western Pacific Bloody Mary Special  \nSaturday and Sundays 10-2  \nWestern Pacific  \nWhat better way to spend you weekend than with a brunch at Western Pacific. Plus\, they have $5 bloody marys! See you there! \nMore info: 
URL:https://www.downtownberkeley.com/dtb-event/western-pacific-blood-mary-special-2019-06-15/
LOCATION:Western Pacific\, 2286 Shattuck Ave\, Berkeley\, CA\, 94704\, United States
CATEGORIES:Food and Drink
END:VEVENT
BEGIN:VEVENT
DTSTART;TZID=America/Denver:20190609T100000
DTEND;TZID=America/Denver:20190609T140000
DTSTAMP:20260419T074832
CREATED:20190417T181902Z
LAST-MODIFIED:20190517T163727Z
UID:19723-1560074400-1560088800@www.downtownberkeley.com
SUMMARY:Western Pacific Bloody Mary Special
DESCRIPTION:Western Pacific Bloody Mary Special  \nSaturday and Sundays 10-2  \nWestern Pacific  \nWhat better way to spend you weekend than with a brunch at Western Pacific. Plus\, they have $5 bloody marys! See you there! \nMore info: 
URL:https://www.downtownberkeley.com/dtb-event/western-pacific-blood-mary-special-2019-06-09/
LOCATION:Western Pacific\, 2286 Shattuck Ave\, Berkeley\, CA\, 94704\, United States
CATEGORIES:Food and Drink
END:VEVENT
BEGIN:VEVENT
DTSTART;TZID=America/Denver:20190608T100000
DTEND;TZID=America/Denver:20190608T140000
DTSTAMP:20260419T074832
CREATED:20190417T181902Z
LAST-MODIFIED:20190517T163727Z
UID:19722-1559988000-1560002400@www.downtownberkeley.com
SUMMARY:Western Pacific Bloody Mary Special
DESCRIPTION:Western Pacific Bloody Mary Special  \nSaturday and Sundays 10-2  \nWestern Pacific  \nWhat better way to spend you weekend than with a brunch at Western Pacific. Plus\, they have $5 bloody marys! See you there! \nMore info: 
URL:https://www.downtownberkeley.com/dtb-event/western-pacific-blood-mary-special-2019-06-08/
LOCATION:Western Pacific\, 2286 Shattuck Ave\, Berkeley\, CA\, 94704\, United States
CATEGORIES:Food and Drink
END:VEVENT
BEGIN:VEVENT
DTSTART;TZID=America/Denver:20190602T100000
DTEND;TZID=America/Denver:20190602T140000
DTSTAMP:20260419T074832
CREATED:20190417T181902Z
LAST-MODIFIED:20190517T163726Z
UID:19721-1559469600-1559484000@www.downtownberkeley.com
SUMMARY:Western Pacific Bloody Mary Special
DESCRIPTION:Western Pacific Bloody Mary Special  \nSaturday and Sundays 10-2  \nWestern Pacific  \nWhat better way to spend you weekend than with a brunch at Western Pacific. Plus\, they have $5 bloody marys! See you there! \nMore info: 
URL:https://www.downtownberkeley.com/dtb-event/western-pacific-blood-mary-special-2019-06-02/
LOCATION:Western Pacific\, 2286 Shattuck Ave\, Berkeley\, CA\, 94704\, United States
CATEGORIES:Food and Drink
END:VEVENT
BEGIN:VEVENT
DTSTART;TZID=America/Denver:20190601T100000
DTEND;TZID=America/Denver:20190601T140000
DTSTAMP:20260419T074832
CREATED:20190417T181902Z
LAST-MODIFIED:20190517T163726Z
UID:19720-1559383200-1559397600@www.downtownberkeley.com
SUMMARY:Western Pacific Bloody Mary Special
DESCRIPTION:Western Pacific Bloody Mary Special  \nSaturday and Sundays 10-2  \nWestern Pacific  \nWhat better way to spend you weekend than with a brunch at Western Pacific. Plus\, they have $5 bloody marys! See you there! \nMore info: 
URL:https://www.downtownberkeley.com/dtb-event/western-pacific-blood-mary-special-2019-06-01/
LOCATION:Western Pacific\, 2286 Shattuck Ave\, Berkeley\, CA\, 94704\, United States
CATEGORIES:Food and Drink
END:VEVENT
BEGIN:VEVENT
DTSTART;TZID=America/Denver:20190526T100000
DTEND;TZID=America/Denver:20190526T140000
DTSTAMP:20260419T074832
CREATED:20190417T181902Z
LAST-MODIFIED:20190517T163726Z
UID:19719-1558864800-1558879200@www.downtownberkeley.com
SUMMARY:Western Pacific Bloody Mary Special
DESCRIPTION:Western Pacific Bloody Mary Special  \nSaturday and Sundays 10-2  \nWestern Pacific  \nWhat better way to spend you weekend than with a brunch at Western Pacific. Plus\, they have $5 bloody marys! See you there! \nMore info: 
URL:https://www.downtownberkeley.com/dtb-event/western-pacific-blood-mary-special-2019-05-26/
LOCATION:Western Pacific\, 2286 Shattuck Ave\, Berkeley\, CA\, 94704\, United States
CATEGORIES:Food and Drink
END:VEVENT
BEGIN:VEVENT
DTSTART;TZID=America/Denver:20190525T100000
DTEND;TZID=America/Denver:20190525T140000
DTSTAMP:20260419T074832
CREATED:20190417T181902Z
LAST-MODIFIED:20190517T163706Z
UID:19718-1558778400-1558792800@www.downtownberkeley.com
SUMMARY:Western Pacific Bloody Mary Special
DESCRIPTION:Western Pacific Bloody Mary Special  \nSaturday and Sundays 10-2  \nWestern Pacific  \nWhat better way to spend you weekend than with a brunch at Western Pacific. Plus\, they have $5 bloody marys! See you there! \nMore info: 
URL:https://www.downtownberkeley.com/dtb-event/western-pacific-blood-mary-special-2019-05-25/
LOCATION:Western Pacific\, 2286 Shattuck Ave\, Berkeley\, CA\, 94704\, United States
CATEGORIES:Food and Drink
END:VEVENT
BEGIN:VEVENT
DTSTART;TZID=America/Denver:20190519T100000
DTEND;TZID=America/Denver:20190519T140000
DTSTAMP:20260419T074832
CREATED:20190417T181902Z
LAST-MODIFIED:20190517T163706Z
UID:19717-1558260000-1558274400@www.downtownberkeley.com
SUMMARY:Western Pacific Bloody Mary Special
DESCRIPTION:Western Pacific Bloody Mary Special  \nSaturday and Sundays 10-2  \nWestern Pacific  \nWhat better way to spend you weekend than with a brunch at Western Pacific. Plus\, they have $5 bloody marys! See you there! \nMore info: 
URL:https://www.downtownberkeley.com/dtb-event/western-pacific-blood-mary-special-2019-05-19/
LOCATION:Western Pacific\, 2286 Shattuck Ave\, Berkeley\, CA\, 94704\, United States
CATEGORIES:Food and Drink
END:VEVENT
BEGIN:VEVENT
DTSTART;TZID=America/Denver:20190518T100000
DTEND;TZID=America/Denver:20190518T140000
DTSTAMP:20260419T074832
CREATED:20190417T181902Z
LAST-MODIFIED:20190517T163706Z
UID:19716-1558173600-1558188000@www.downtownberkeley.com
SUMMARY:Western Pacific Bloody Mary Special
DESCRIPTION:Western Pacific Bloody Mary Special  \nSaturday and Sundays 10-2  \nWestern Pacific  \nWhat better way to spend you weekend than with a brunch at Western Pacific. Plus\, they have $5 bloody marys! See you there! \nMore info: 
URL:https://www.downtownberkeley.com/dtb-event/western-pacific-blood-mary-special-2019-05-18/
LOCATION:Western Pacific\, 2286 Shattuck Ave\, Berkeley\, CA\, 94704\, United States
CATEGORIES:Food and Drink
END:VEVENT
BEGIN:VEVENT
DTSTART;TZID=America/Denver:20190512T100000
DTEND;TZID=America/Denver:20190512T140000
DTSTAMP:20260419T074832
CREATED:20190417T181902Z
LAST-MODIFIED:20190517T163705Z
UID:19715-1557655200-1557669600@www.downtownberkeley.com
SUMMARY:Western Pacific Bloody Mary Special
DESCRIPTION:Western Pacific Bloody Mary Special  \nSaturday and Sundays 10-2  \nWestern Pacific  \nWhat better way to spend you weekend than with a brunch at Western Pacific. Plus\, they have $5 bloody marys! See you there! \nMore info: 
URL:https://www.downtownberkeley.com/dtb-event/western-pacific-blood-mary-special-2019-05-12/
LOCATION:Western Pacific\, 2286 Shattuck Ave\, Berkeley\, CA\, 94704\, United States
CATEGORIES:Food and Drink
END:VEVENT
BEGIN:VEVENT
DTSTART;TZID=America/Denver:20190511T100000
DTEND;TZID=America/Denver:20190511T140000
DTSTAMP:20260419T074832
CREATED:20190417T181902Z
LAST-MODIFIED:20190517T163705Z
UID:19714-1557568800-1557583200@www.downtownberkeley.com
SUMMARY:Western Pacific Bloody Mary Special
DESCRIPTION:Western Pacific Bloody Mary Special  \nSaturday and Sundays 10-2  \nWestern Pacific  \nWhat better way to spend you weekend than with a brunch at Western Pacific. Plus\, they have $5 bloody marys! See you there! \nMore info: 
URL:https://www.downtownberkeley.com/dtb-event/western-pacific-blood-mary-special-2019-05-11/
LOCATION:Western Pacific\, 2286 Shattuck Ave\, Berkeley\, CA\, 94704\, United States
CATEGORIES:Food and Drink
END:VEVENT
BEGIN:VEVENT
DTSTART;TZID=America/Denver:20190506T180000
DTEND;TZID=America/Denver:20190506T220000
DTSTAMP:20260419T074832
CREATED:20190417T162308Z
LAST-MODIFIED:20190417T162308Z
UID:19702-1557165600-1557180000@www.downtownberkeley.com
SUMMARY:Candlelight Club at Revival Bar and Kitchen
DESCRIPTION:Candlelight Club at Revival Bar and Kitchen \n6PM Mon May 6th \nRevival Bar and Kitchen \nCandle Light Club is a monthly “barn raising'” – an event co-created by a community of passionately curious\, engaged enthusiasts. Come experience some great music\, and stew. \nMore info: 
URL:https://www.downtownberkeley.com/dtb-event/candlelight-club-at-revival-bar-and-kitchen/
LOCATION:Revival Bar + Kitchen\, 2102 Shattuck Ave\, Berkeley\, 94704\, United States
CATEGORIES:Food and Drink,Music
END:VEVENT
BEGIN:VEVENT
DTSTART;TZID=America/Denver:20190505T100000
DTEND;TZID=America/Denver:20190505T140000
DTSTAMP:20260419T074832
CREATED:20190417T181902Z
LAST-MODIFIED:20190517T163705Z
UID:19713-1557050400-1557064800@www.downtownberkeley.com
SUMMARY:Western Pacific Bloody Mary Special
DESCRIPTION:Western Pacific Bloody Mary Special  \nSaturday and Sundays 10-2  \nWestern Pacific  \nWhat better way to spend you weekend than with a brunch at Western Pacific. Plus\, they have $5 bloody marys! See you there! \nMore info: 
URL:https://www.downtownberkeley.com/dtb-event/western-pacific-blood-mary-special-2019-05-05/
LOCATION:Western Pacific\, 2286 Shattuck Ave\, Berkeley\, CA\, 94704\, United States
CATEGORIES:Food and Drink
END:VEVENT
BEGIN:VEVENT
DTSTART;TZID=America/Denver:20190504T100000
DTEND;TZID=America/Denver:20190504T140000
DTSTAMP:20260419T074832
CREATED:20190417T181902Z
LAST-MODIFIED:20190517T163705Z
UID:19712-1556964000-1556978400@www.downtownberkeley.com
SUMMARY:Western Pacific Bloody Mary Special
DESCRIPTION:Western Pacific Bloody Mary Special  \nSaturday and Sundays 10-2  \nWestern Pacific  \nWhat better way to spend you weekend than with a brunch at Western Pacific. Plus\, they have $5 bloody marys! See you there! \nMore info: 
URL:https://www.downtownberkeley.com/dtb-event/western-pacific-blood-mary-special-2019-05-04/
LOCATION:Western Pacific\, 2286 Shattuck Ave\, Berkeley\, CA\, 94704\, United States
CATEGORIES:Food and Drink
END:VEVENT
BEGIN:VEVENT
DTSTART;TZID=America/Denver:20190428T100000
DTEND;TZID=America/Denver:20190428T140000
DTSTAMP:20260419T074832
CREATED:20190417T181902Z
LAST-MODIFIED:20190517T163705Z
UID:19711-1556445600-1556460000@www.downtownberkeley.com
SUMMARY:Western Pacific Bloody Mary Special
DESCRIPTION:Western Pacific Bloody Mary Special  \nSaturday and Sundays 10-2  \nWestern Pacific  \nWhat better way to spend you weekend than with a brunch at Western Pacific. Plus\, they have $5 bloody marys! See you there! \nMore info: 
URL:https://www.downtownberkeley.com/dtb-event/western-pacific-blood-mary-special-2019-04-28/
LOCATION:Western Pacific\, 2286 Shattuck Ave\, Berkeley\, CA\, 94704\, United States
CATEGORIES:Food and Drink
END:VEVENT
BEGIN:VEVENT
DTSTART;TZID=America/Denver:20190427T100000
DTEND;TZID=America/Denver:20190427T140000
DTSTAMP:20260419T074832
CREATED:20190417T181902Z
LAST-MODIFIED:20190517T163705Z
UID:19710-1556359200-1556373600@www.downtownberkeley.com
SUMMARY:Western Pacific Bloody Mary Special
DESCRIPTION:Western Pacific Bloody Mary Special  \nSaturday and Sundays 10-2  \nWestern Pacific  \nWhat better way to spend you weekend than with a brunch at Western Pacific. Plus\, they have $5 bloody marys! See you there! \nMore info: 
URL:https://www.downtownberkeley.com/dtb-event/western-pacific-blood-mary-special-2019-04-27/
LOCATION:Western Pacific\, 2286 Shattuck Ave\, Berkeley\, CA\, 94704\, United States
CATEGORIES:Food and Drink
END:VEVENT
END:VCALENDAR